BEGIN:VCALENDAR
VERSION:2.0
PRODID:-//ChamberMaster//Event Calendar 2.0//EN
METHOD:PUBLISH
X-PUBLISHED-TTL:P3D
REFRESH-INTERVAL:P3D
CALSCALE:GREGORIAN
BEGIN:VEVENT
DTSTART:20190309T160000Z
DTEND:20190309T200000Z
X-MICROSOFT-CDO-ALLDAYEVENT:FALSE
SUMMARY:Goodwill Tax Prep Assistance
DESCRIPTION:Goodwill of South Central Wisconsin (SCWI) is launching its 2019 Volunteer Income Tax Assistance (VITA) program\, with a new service called Valet VITA. Valet VITA is a drop-off service that allows taxpayers to schedule a time to drop off tax documents\, and a time to pick them up after completion.\n\n\n\nThe newly expanded service will offer appointments at Goodwill Portage\, 2902 American Legion Drive\, Portage\, on these dates from 10 a.m. until 2 p.m.:   February 2nd and 23rd   March 9th\n\n\n\nAdditional services are available at multiple locations in Madison\, Fitchburg\, Jefferson\, and Richland Center.\n\n\n\nA complete schedule is available at: https://goodwillscwi.org/services/vita/ VITA Program Coordinator Joe Byrnes says VITA volunteers are prepared to handle the many changes made in 2018\, including the increased Standard Deduction and Child Tax Credit. To participate in the VITA service this year\, please call 608-246-3140 x155
X-ALT-DESC;FMTTYPE=text/html:<span style="font-size: 16px\;"><span style="font-family: arial\;">Goodwill of South Central Wisconsin (SCWI) is launching its 2019 Volunteer Income Tax Assistance (VITA) program\, with a new service called Valet VITA. Valet VITA is a drop-off service that allows taxpayers to schedule a time to drop off tax documents\, and a time to pick them up after completion.<br />\n<br />\nThe newly expanded service will offer appointments at Goodwill Portage\, 2902 American Legion Drive\, Portage\, on these dates from 10 a.m. until 2 p.m.: &bull\; February 2nd and 23rd &bull\; March 9th<br />\n<br />\nAdditional services are available at multiple locations in Madison\, Fitchburg\, Jefferson\, and Richland Center.<br />\n<br />\nA complete schedule is available at: https://goodwillscwi.org/services/vita/ VITA Program Coordinator Joe Byrnes says VITA volunteers are prepared to handle the many changes made in 2018\, including the increased Standard Deduction and Child Tax Credit. To participate in the VITA service this year\, please call 608-246-3140 x155</span></span>
LOCATION:Goodwill Portage\, 2902 American Legion Drive
UID:e.374.25606
SEQUENCE:3
DTSTAMP:20260421T215924Z
URL:http://chamber.portagewi.com/events/details/goodwill-tax-prep-assistance-25606
END:VEVENT

END:VCALENDAR
