BEGIN:VCALENDAR
VERSION:2.0
PRODID:-//ChamberMaster//Event Calendar 2.0//EN
METHOD:PUBLISH
X-PUBLISHED-TTL:P3D
REFRESH-INTERVAL:P3D
CALSCALE:GREGORIAN
BEGIN:VEVENT
DTSTART:20250805T230000Z
DTEND:20250806T010000Z
X-MICROSOFT-CDO-ALLDAYEVENT:FALSE
SUMMARY:Grief Share
DESCRIPTION:Welcome to GriefShare We're so glad you're considering joining our upcoming GriefShare group. Whether your loss is recent or long ago\, we understand how deeply grief affects every part of life\, and we want to walk with you through this season of healing and hope.\n\n\n\nWhat to Expect: GriefShare is a 13-week support group designed to help you face the challenges of grief and move toward rebuilding your life. Each week includes a video seminar with insights from experts and personal stories from people who have faced grief\, followed by group discussion and support.\n\n\n\nRegistration & Workbook Info: There is a one-time registration fee\, which includes the cost of the GriefShare workbook. However\, if you already own a workbook from a previous session\, your registration fee will be waived\, we'd love to welcome you back without any extra cost.
X-ALT-DESC;FMTTYPE=text/html:Welcome to GriefShare We&#39\;re so glad you&#39\;re considering joining our upcoming GriefShare group. Whether your loss is recent or long ago\, we understand how deeply grief affects every part of life\, and we want to walk with you through this season of healing and hope.<br />\n<br />\nWhat to Expect: GriefShare is a 13-week support group designed to help you face the challenges of grief and move toward rebuilding your life. Each week includes a video seminar with insights from experts and personal stories from people who have faced grief\, followed by group discussion and support.<br />\n<br />\nRegistration &amp\; Workbook Info: There is a one-time registration fee\, which includes the cost of the GriefShare workbook. However\, if you already own a workbook from a previous session\, your registration fee will be waived\, we&#39\;d love to welcome you back without any extra cost.
LOCATION:CrossPoint Assembly of God 2727 County Road CX Portage\, WI 53901
UID:e.374.37944
SEQUENCE:3
DTSTAMP:20260423T092719Z
URL:http://chamber.portagewi.com/events/details/grief-share-08-05-2025-37944
END:VEVENT

END:VCALENDAR
