BEGIN:VCALENDAR
VERSION:2.0
PRODID:-//ChamberMaster//Event Calendar 2.0//EN
METHOD:PUBLISH
X-PUBLISHED-TTL:P3D
REFRESH-INTERVAL:P3D
CALSCALE:GREGORIAN
BEGIN:VEVENT
DTSTART:20251022T213000Z
DTEND:20251023T003000Z
X-MICROSOFT-CDO-ALLDAYEVENT:FALSE
SUMMARY:Halloween Kid's Night at Culver's
DESCRIPTION:Join us at Culver's for their annual Halloween Kid's Night from 4:30pm - 7:30pm.
X-ALT-DESC;FMTTYPE=text/html:Join us at Culver&#39\;s for their annual Halloween Kid&#39\;s Night from 4:30pm - 7:30pm.&nbsp\;
LOCATION:Culver's in Portage 2733 New Pinery Rd\, Portage\, WI 53901
UID:e.374.38931
SEQUENCE:3
DTSTAMP:20260423T033446Z
URL:http://chamber.portagewi.com/events/details/halloween-kid-s-night-at-culver-s-38931
END:VEVENT

END:VCALENDAR
