BEGIN:VCALENDAR
VERSION:2.0
PRODID:-//ChamberMaster//Event Calendar 2.0//EN
METHOD:PUBLISH
X-PUBLISHED-TTL:P3D
REFRESH-INTERVAL:P3D
CALSCALE:GREGORIAN
BEGIN:VEVENT
DTSTART:20251101T150000Z
DTEND:20251101T180000Z
X-MICROSOFT-CDO-ALLDAYEVENT:FALSE
SUMMARY:Holiday Bazaar
DESCRIPTION:Holiday Bazaar\n\n\n\nLunch from 10am to 1pm\, includes homemade soup\, sandwiches and pie!\n\n\n\nCheck out our booths: Soup-to-go\, Crafts\, Candy\, Baked Goods\, Fruitcake\, Norwegian Goodies\, Attic Treasures and Silent Auction baskets!
X-ALT-DESC;FMTTYPE=text/html:<strong>Holiday Bazaar</strong><br />\n<br />\nLunch from 10am to 1pm\, includes homemade soup\, sandwiches and pie!<br />\n<br />\nCheck out our booths: Soup-to-go\, Crafts\, Candy\, Baked Goods\, Fruitcake\, Norwegian Goodies\, Attic Treasures and Silent Auction baskets!<br />\n<br />\n<br />\n&nbsp\;
LOCATION:Portage United Methodist Church 1804 New Pinery Road\, Portage\, WI 53901
UID:e.374.38942
SEQUENCE:3
DTSTAMP:20260423T015628Z
URL:http://chamber.portagewi.com/events/details/holiday-bazaar-38942
END:VEVENT

END:VCALENDAR
