BEGIN:VCALENDAR
VERSION:2.0
PRODID:-//ChamberMaster//Event Calendar 2.0//EN
METHOD:PUBLISH
X-PUBLISHED-TTL:P3D
REFRESH-INTERVAL:P3D
CALSCALE:GREGORIAN
BEGIN:VEVENT
DTSTART;VALUE=DATE:20251121
DTEND;VALUE=DATE:20251123
TRANSP:TRANSPARENT
X-MICROSOFT-CDO-ALLDAYEVENT:TRUE
SUMMARY:Holiday Open House at Wilz Hometown Pharmacy
DESCRIPTION:Come enjoy holiday fun while you shop at our store for some great holiday gifts with 25% retail gift purchases.    Bring a small gift donation for the Columbia County Humane Society and receive an additional 10% off a single item.
X-ALT-DESC;FMTTYPE=text/html:Come enjoy holiday fun while you shop at our store for some great holiday gifts with&nbsp\;25% retail gift purchases.&nbsp\; &nbsp\;<span data-olk-copy-source="MessageBody">&nbsp\;Bring a small gift donation for the Columbia County Humane Society and receive an additional 10% off a single item.</span>\n<div color:="" data-olk-copy-source="MessageBody" dir="auto" font-feature-settings:="" font-kerning:="" font-optical-sizing:="" font-size-adjust:="" font-variation-settings:="" helvetica="" margin:="" padding:="" segoe="" style="border: 0px\; font-variant-numeric: inherit\; font-variant-east-asian: inherit\; font-variant-alternates: inherit\; font-variant-position: inherit\; font-variant-emoji: inherit\; font-stretch: inherit\; font-size: 15px\; line-height: inherit\;" ui="" vertical-align:="" web="" west="">\n<div dir="auto" style="border: 0px\; font: inherit\; margin: 0px\; padding: 0px\; vertical-align: baseline\; color: inherit\;">&nbsp\;</div>\n</div>\n
LOCATION:Wilz Hometown Pharmacy 140 East Cook Street Portage\, WI 53901
UID:e.374.39302
SEQUENCE:3
DTSTAMP:20260423T020141Z
URL:http://chamber.portagewi.com/events/details/holiday-open-house-at-wilz-hometown-pharmacy-39302
END:VEVENT

END:VCALENDAR
