BEGIN:VCALENDAR
VERSION:2.0
PRODID:-//ChamberMaster//Event Calendar 2.0//EN
METHOD:PUBLISH
X-PUBLISHED-TTL:P3D
REFRESH-INTERVAL:P3D
CALSCALE:GREGORIAN
BEGIN:VEVENT
DTSTART:20251128T160000Z
DTEND:20251128T170000Z
X-MICROSOFT-CDO-ALLDAYEVENT:FALSE
SUMMARY:Holiday Open House: Porch Pot
DESCRIPTION:Come join us for our Holiday Open House weekend at Edgewater Home & Garden.\n\nGrab your friends for a fun Porch Pot making event!\n\nFees are based on the materials you've chosen to use.\n\nCall to register: 608.742.6558
X-ALT-DESC;FMTTYPE=text/html:<div class="xdj266r x14z9mp xat24cr x1lziwak x1vvkbs" style="overflow-wrap: break-word\; margin-inline: 0px\; margin-bottom: 0px\; margin-top: 0px\; font-family: &quot\;Segoe UI Historic&quot\;\, &quot\;Segoe UI&quot\;\, Helvetica\, Arial\, sans-serif\; color: rgb(8\, 8\, 9)\; font-size: 14px\;">Come join us for our Holiday Open House weekend at Edgewater Home &amp\; Garden.<br class="html-br" />\nGrab your friends for a fun Porch Pot making event!<br class="html-br" />\nFees are based on the materials you&#39\;ve chosen to use.</div>\n\n<div class="x14z9mp xat24cr x1lziwak x1vvkbs xtlvy1s" style="overflow-wrap: break-word\; margin-top: 0.5em\; margin-inline: 0px\; margin-bottom: 0px\; font-family: &quot\;Segoe UI Historic&quot\;\, &quot\;Segoe UI&quot\;\, Helvetica\, Arial\, sans-serif\; color: rgb(8\, 8\, 9)\; font-size: 14px\;">Call to register: 608.742.6558</div>\n
LOCATION:Edgewater Home & Garden 2957 Highway CX\, Portage\, WI 53901
UID:e.374.39229
SEQUENCE:3
DTSTAMP:20260423T020140Z
URL:http://chamber.portagewi.com/events/details/holiday-open-house-porch-pot-39229
END:VEVENT

END:VCALENDAR
