BEGIN:VCALENDAR
VERSION:2.0
PRODID:-//ChamberMaster//Event Calendar 2.0//EN
METHOD:PUBLISH
X-PUBLISHED-TTL:P3D
REFRESH-INTERVAL:P3D
CALSCALE:GREGORIAN
BEGIN:VEVENT
DTSTART:20251129T160000Z
DTEND:20251129T170000Z
X-MICROSOFT-CDO-ALLDAYEVENT:FALSE
SUMMARY:Holiday Open House: Wreath Workshop
DESCRIPTION:Join us for our Holiday Open House!\n\nCome in on Saturday to decorate your very own wreath!\n\nBring a friend or even two.\n\nFees are based on materials used during the workshop.\n\nCall to register: 608.742.6558\n\nEmail to register- info@edgewaterhomeandgarden.com
X-ALT-DESC;FMTTYPE=text/html:<div class="xdj266r x14z9mp xat24cr x1lziwak x1vvkbs" style="overflow-wrap: break-word\; margin-inline: 0px\; margin-bottom: 0px\; margin-top: 0px\; font-family: &quot\;Segoe UI Historic&quot\;\, &quot\;Segoe UI&quot\;\, Helvetica\, Arial\, sans-serif\; color: rgb(8\, 8\, 9)\; font-size: 14px\; background-color: rgb(255\, 255\, 255)\;">Join us for our Holiday Open House!<br class="html-br" />\nCome in on Saturday to decorate your very own wreath!<br class="html-br" />\nBring a friend or even two.<br class="html-br" />\nFees are based on materials used during the workshop.</div>\n\n<div class="x14z9mp xat24cr x1lziwak x1vvkbs xtlvy1s" style="overflow-wrap: break-word\; margin-top: 0.5em\; margin-inline: 0px\; margin-bottom: 0px\; font-family: &quot\;Segoe UI Historic&quot\;\, &quot\;Segoe UI&quot\;\, Helvetica\, Arial\, sans-serif\; color: rgb(8\, 8\, 9)\; font-size: 14px\; background-color: rgb(255\, 255\, 255)\;">Call to register: 608.742.6558<br class="html-br" />\nEmail to register- info@edgewaterhomeandgarden.com</div>\n
LOCATION:Edgewater Home & Garden 2957 Highway CX\, Portage\, WI 53901
UID:e.374.39231
SEQUENCE:3
DTSTAMP:20260423T015647Z
URL:http://chamber.portagewi.com/events/details/holiday-open-house-wreath-workshop-39231
END:VEVENT

END:VCALENDAR
