BEGIN:VCALENDAR
VERSION:2.0
PRODID:-//ChamberMaster//Event Calendar 2.0//EN
METHOD:PUBLISH
X-PUBLISHED-TTL:P3D
REFRESH-INTERVAL:P3D
CALSCALE:GREGORIAN
BEGIN:VEVENT
DTSTART;VALUE=DATE:20251008
DTEND;VALUE=DATE:20251009
TRANSP:TRANSPARENT
X-MICROSOFT-CDO-ALLDAYEVENT:TRUE
SUMMARY:Ladies Night at Runnings
DESCRIPTION:Join us for a Royal Event: Ladies Night from 4pm to 7pm\n\nA night of fun for all princesses of all ages to come together for a regal fest of snacks & treats\, prizes and more.
X-ALT-DESC;FMTTYPE=text/html:Join us for a Royal Event: Ladies Night from 4pm to 7pm<br />\nA night of fun for all princesses of all ages to come together for a regal fest of snacks &amp\; treats\, prizes and more.&nbsp\;
LOCATION:Runnings Portage\, WI 53901
UID:e.374.38958
SEQUENCE:3
DTSTAMP:20260423T043839Z
URL:http://chamber.portagewi.com/events/details/ladies-night-at-runnings-38958
END:VEVENT

END:VCALENDAR
