BEGIN:VCALENDAR
VERSION:2.0
PRODID:-//ChamberMaster//Event Calendar 2.0//EN
METHOD:PUBLISH
X-PUBLISHED-TTL:P3D
REFRESH-INTERVAL:P3D
CALSCALE:GREGORIAN
BEGIN:VEVENT
DTSTART:20251008T170000Z
DTEND:20251008T190000Z
X-MICROSOFT-CDO-ALLDAYEVENT:FALSE
SUMMARY:Learn to Crochet: 4-week class
DESCRIPTION:Learn to crochet at the Portage Craft Mall in our 4-week class. The class will be held on Wednesdays in October from 12pm - 2pm.
X-ALT-DESC;FMTTYPE=text/html:Learn to crochet at the Portage Craft Mall in our 4-week class. The class will be held on Wednesdays in October from 12pm - 2pm.<br />\n&nbsp\;
LOCATION:Portage Craft Mall 128 W Cook Street
UID:e.374.38901
SEQUENCE:3
DTSTAMP:20260423T043733Z
URL:http://chamber.portagewi.com/events/details/learn-to-crochet-4-week-class-38901
END:VEVENT

END:VCALENDAR
