BEGIN:VCALENDAR
VERSION:2.0
PRODID:-//ChamberMaster//Event Calendar 2.0//EN
METHOD:PUBLISH
X-PUBLISHED-TTL:P3D
REFRESH-INTERVAL:P3D
CALSCALE:GREGORIAN
BEGIN:VEVENT
DTSTART:20250817T180000Z
DTEND:20250817T210000Z
X-MICROSOFT-CDO-ALLDAYEVENT:FALSE
SUMMARY:Live Music at Johnny B's
DESCRIPTION:Come enjoy live music from 1pm-4pm at Johnny B's weekly.\n\nHere is our schedule for live music this summer\n\n\n\nJune 14 - Back Alley Kings \n\nJune 21 - Nite Fire\n\nJune 29 - Best Practice \n\nJuly 6 - Swing Crew\n\nJuly 12 - Craig Gerdes Bands\n\nJuly 20 - Crosstown Drive\n\nJuly 26 -  Dirt Road Rebelz\n\nAugust 10 - Country Gentlemen\n\nAugust 17 - Country Renegades\n\nAugust 23 - Mad City Radiators\n\nAugust 31 - Back Alley Kings & Crosstown Drive for the Hogs for Heroes Fundraiser \n\nSeptember 21 - Smokin' Meerkats
X-ALT-DESC;FMTTYPE=text/html:<p><span style="font-size:16px\;">Come enjoy live music from 1pm-4pm at Johnny B&#39\;s weekly.<br />\nHere is our schedule for live music this summer<br />\n<br />\nJune 14 - Back Alley Kings&nbsp\;<br />\nJune 21 - Nite Fire<br />\nJune 29 - Best Practice&nbsp\;<br />\nJuly 6 - Swing Crew<br />\nJuly 12 - Craig Gerdes Bands<br />\nJuly 20 - Crosstown Drive<br />\nJuly 26 -&nbsp\; Dirt Road Rebelz<br />\nAugust 10 - Country Gentlemen<br />\nAugust 17 - Country Renegades<br />\nAugust 23 - Mad City Radiators<br />\nAugust 31 - Back Alley Kings &amp\; Crosstown Drive for the Hogs for Heroes Fundraiser&nbsp\;<br />\nSeptember 21 - Smokin&#39\; Meerkats</span></p>\n
LOCATION:Johnny B's 214 North Main Street Pardeeville\, WI 53954
UID:e.374.38001
SEQUENCE:3
DTSTAMP:20260423T094015Z
URL:http://chamber.portagewi.com/events/details/live-music-at-johnny-b-s-08-16-2025-38001
END:VEVENT

END:VCALENDAR
