BEGIN:VCALENDAR
VERSION:2.0
PRODID:-//ChamberMaster//Event Calendar 2.0//EN
METHOD:PUBLISH
X-PUBLISHED-TTL:P3D
REFRESH-INTERVAL:P3D
CALSCALE:GREGORIAN
BEGIN:VEVENT
DTSTART;VALUE=DATE:20251120
DTEND;VALUE=DATE:20251121
TRANSP:TRANSPARENT
X-MICROSOFT-CDO-ALLDAYEVENT:TRUE
SUMMARY:MDA Fundraiser at Portage Culver's
DESCRIPTION:Portage Fire Rescue is teaming up with Culver's to raise money for the Muscular Dystrophy Association. Please come out and support us from 11 AM to 2 PM and from 5 PM to 8 PM by filling the boot and having a meal at Culver's.\n\n\n\nMDA is leading the fight to free individuals and the families who love them from the harm of muscular dystrophy\, ALS and over 300 muscle-debilitating diseases that take away physical strength\, independence and life. We use our collective strength to help kids and adults live longer and grow stronger by finding research breakthroughs across diseases\; caring for individuals from day one\; and empowering families with services and support in hometowns across America.
X-ALT-DESC;FMTTYPE=text/html:<div class="xdj266r x14z9mp xat24cr x1lziwak x1vvkbs x126k92a" color:="" font-size:="" segoe="" style="overflow-wrap: break-word\; white-space-collapse: preserve\; margin-inline: 0px\; margin-bottom: 0px\; margin-top: 0px\; font-family: " ui="">\n<div dir="auto" style="font-family: inherit\;">Portage Fire Rescue is teaming up with Culver&#39\;s to raise money for the Muscular Dystrophy Association. Please come out and support us from 11 AM to 2 PM and from 5 PM to 8 PM by filling the boot and having a meal at Culver&#39\;s.</div>\n</div>\n\n<div class="x14z9mp xat24cr x1lziwak x1vvkbs xtlvy1s x126k92a" color:="" font-size:="" segoe="" style="overflow-wrap: break-word\; white-space-collapse: preserve\; margin-top: 0.5em\; margin-inline: 0px\; margin-bottom: 0px\; font-family: " ui="">\n<div dir="auto" style="font-family: inherit\;">MDA is leading the fight to free individuals and the families who love them from the harm of muscular dystrophy\, ALS and over 300 muscle-debilitating diseases that take away physical strength\, independence and life. We use our collective strength to help kids and adults live longer and grow stronger by finding research breakthroughs across diseases\; caring for individuals from day one\; and empowering families with services and support in hometowns across America.</div>\n</div>\n
LOCATION:
UID:e.374.39408
SEQUENCE:3
DTSTAMP:20260423T015835Z
URL:http://chamber.portagewi.com/events/details/mda-fundraiser-at-portage-culver-s-39408
END:VEVENT

END:VCALENDAR
