BEGIN:VCALENDAR
VERSION:2.0
PRODID:-//ChamberMaster//Event Calendar 2.0//EN
METHOD:PUBLISH
X-PUBLISHED-TTL:P3D
REFRESH-INTERVAL:P3D
CALSCALE:GREGORIAN
BEGIN:VEVENT
DTSTART:20251129T170000Z
DTEND:20251129T190000Z
X-MICROSOFT-CDO-ALLDAYEVENT:FALSE
SUMMARY:Meet Santa's Real Live Reindeer
DESCRIPTION:Come to Commerce Plaza in downtown Portage to see who pulls Santa's sleigh!  \n\nGet your pictures with Santa and his reindeer.  Enjoy hot chocolate provided by The Harbor Recovery Center while you visit with the reindeer. \n\nLive music with electric violinist\, Wendy Lynn Markus as she performs holiday music for you to enjoy. \n \nThere is a $20 fee per photo with the reindeer.  \n\n(***Please note\, you need to be in line by 12:30pm in order to get a photo taken.*** )
X-ALT-DESC;FMTTYPE=text/html:<span style="font-family:arial\;"><span style="font-size:16px\;"><span style="color: black\;">Come to Commerce Plaza in downtown Portage&nbsp\;to see who pulls Santa&#39\;s sleigh!&nbsp\;&nbsp\;<br />\nGet your pictures with Santa and his reindeer.&nbsp\;&nbsp\;</span></span></span><span style="color: rgb(0\, 0\, 0)\; font-family: arial\; font-size: 16px\;">Enjoy hot chocolate provided by The Harbor Recovery Center while you visit with the reindeer.&nbsp\;<br />\nLive music with electric violinist\,&nbsp\;Wendy Lynn Markus as she performs holiday music for you to enjoy.&nbsp\;</span>\n<div data-olk-copy-source="MessageBody" style="border: 0px\; font-variant-numeric: inherit\; font-variant-east-asian: inherit\; font-variant-alternates: inherit\; font-variant-position: inherit\; font-variant-emoji: inherit\; font-stretch: inherit\; font-size: 15px\; line-height: inherit\; font-family: &quot\;Segoe UI&quot\;\, &quot\;Segoe UI Web (West European)&quot\;\, -apple-system\, BlinkMacSystemFont\, Roboto\, &quot\;Helvetica Neue&quot\;\, sans-serif\; font-optical-sizing: inherit\; font-size-adjust: inherit\; font-kerning: inherit\; font-feature-settings: inherit\; font-variation-settings: inherit\; margin: 0px\; padding: 0px\; vertical-align: baseline\; color: rgb(36\, 36\, 36)\;">&nbsp\;</div>\n<span style="font-family:arial\;"><span style="font-size:16px\;"><span style="color: black\;">There is a $20 fee per photo with the reindeer. &nbsp\;<br />\n(***Please note\, you need to be in line by 12:30pm in order to get a photo taken.*** )</span></span></span><br />\n<br />\n<br style="font-family: arial\; font-size: 16px\;" />\n<br />\n&nbsp\;
LOCATION:Commerce Plaza in Downtown Portage Hwy 16/33
UID:e.374.38039
SEQUENCE:3
DTSTAMP:20260423T020024Z
URL:http://chamber.portagewi.com/events/details/meet-santa-s-real-live-reindeer-38039
END:VEVENT

END:VCALENDAR
