BEGIN:VCALENDAR
VERSION:2.0
PRODID:-//ChamberMaster//Event Calendar 2.0//EN
METHOD:PUBLISH
X-PUBLISHED-TTL:P3D
REFRESH-INTERVAL:P3D
CALSCALE:GREGORIAN
BEGIN:VEVENT
DTSTART:20251004T140000Z
DTEND:20251004T180000Z
X-MICROSOFT-CDO-ALLDAYEVENT:FALSE
SUMMARY:Milwaukee Tool Sale at Bliffert Lumber
DESCRIPTION:Our Biggest Milwaukee Tool Sale of the Season!  \n\nJoin us for the Fall Milwaukee Tool Doorbuster Event   One Day Only!\n\nSaturday\, October 4\, 2025 | 9 AM   1 PM\n\n  Bliffert Portage\n\n-All in-stock Milwaukee  Power Tools on sale\n\n-Up to 50% off select hand tools & accessories\n\n-Grand prize drawings\n\n-Food truck at Portage\n\nStock up on Milwaukee power tools\, accessories\, and gear at unbeatable prices. Get expert advice from Milwaukee  Tool Reps and take advantage of exclusive in-store promotions available only during this event.\n\nIn-store only. While supplies last.\n\n PORTAGE | Bliffert Lumber\, Hardware & Design\, 1009 E Wisconsin St.\, Portage: \n\n**Overcakeland Food Truck at Portage Location during event!**\n\nhttps://www.doitbest.com/bliffert.../Milwaukee-Tool-Sale/
X-ALT-DESC;FMTTYPE=text/html:<strong>Our Biggest Milwaukee Tool Sale of the Season! <span style="font-family:segoe ui symbol\,sans-serif\;">&#128736\;</span></strong><br />\nJoin us for the Fall Milwaukee Tool Doorbuster Event &mdash\; One Day Only!<br />\nSaturday\, October 4\, 2025 | 9 AM &ndash\; 1 PM<br />\n<span style="font-family:segoe ui emoji\,sans-serif\;">&#128205\;</span> Bliffert Portage<br />\n-All in-stock Milwaukee&reg\; Power Tools on sale<br />\n-Up to 50% off select hand tools &amp\; accessories<br />\n-Grand prize drawings<br />\n-Food truck at Portage<br />\nStock up on Milwaukee power tools\, accessories\, and gear at unbeatable prices. Get expert advice from Milwaukee&reg\; Tool Reps and take advantage of exclusive in-store promotions available only during this event.<br />\nIn-store only. While supplies last.<br />\n<span style="font-family:segoe ui emoji\,sans-serif\;">&#128205\;</span>PORTAGE | Bliffert Lumber\, Hardware &amp\; Design\, 1009 E Wisconsin St.\, Portage:&nbsp\;<br />\n**Overcakeland Food Truck at Portage Location during event!**<br />\nhttps://www.doitbest.com/bliffert.../Milwaukee-Tool-Sale/<br />\n&nbsp\;
LOCATION:1009 E. Wisconsin Street
UID:e.374.38949
SEQUENCE:3
DTSTAMP:20260423T033405Z
URL:http://chamber.portagewi.com/events/details/milwaukee-tool-sale-at-bliffert-lumber-38949
END:VEVENT

END:VCALENDAR
