BEGIN:VCALENDAR
VERSION:2.0
PRODID:-//ChamberMaster//Event Calendar 2.0//EN
METHOD:PUBLISH
X-PUBLISHED-TTL:P3D
REFRESH-INTERVAL:P3D
CALSCALE:GREGORIAN
BEGIN:VEVENT
DTSTART:20250818T223000Z
DTEND:20250821T010000Z
X-MICROSOFT-CDO-ALLDAYEVENT:FALSE
SUMMARY:Open Auditions for Shrek the Musical (PACT)
DESCRIPTION:Portage Area Community Theatre is proud to announce open auditions for their upcoming production of Shrek the Musical!\n\n\n\nAuditions will be August 18\, 19\, 20 from 5:30-8 at the Portage Center for the Arts. Auditions are open to all people ages 10+\, but children 8-9 will be considered if they have an adult family member involved in the cast and crew.\n\n\n\nAuditions will be first come\, first serve\, and conducted individually. Please prepare a song of your choice. You are welcome to bring along sheet music\, a backing track\, or sing acapella. There will also be short dance call that does not need to be prepared in advance.\n\n\n\nQuestions can be directed to pacttheatre@gmail.com
X-ALT-DESC;FMTTYPE=text/html:<span style="color: rgb(8\, 8\, 9)\; font-family: &quot\;Segoe UI Historic&quot\;\, &quot\;Segoe UI&quot\;\, Helvetica\, Arial\, sans-serif\; font-size: 15px\;">Portage Area Community Theatre is proud to announce open auditions for their upcoming production of Shrek the Musical!</span><br class="html-br" style="color: rgb(8\, 8\, 9)\; font-family: &quot\;Segoe UI Historic&quot\;\, &quot\;Segoe UI&quot\;\, Helvetica\, Arial\, sans-serif\; font-size: 15px\;" />\n<br class="html-br" style="color: rgb(8\, 8\, 9)\; font-family: &quot\;Segoe UI Historic&quot\;\, &quot\;Segoe UI&quot\;\, Helvetica\, Arial\, sans-serif\; font-size: 15px\;" />\n<span style="color: rgb(8\, 8\, 9)\; font-family: &quot\;Segoe UI Historic&quot\;\, &quot\;Segoe UI&quot\;\, Helvetica\, Arial\, sans-serif\; font-size: 15px\;">Auditions will be August 18\, 19\, 20 from 5:30-8 at the Portage Center for the Arts. Auditions are open to all people ages 10+\, but children 8-9 will be considered if they have an adult family member involved in the cast and crew.</span><br class="html-br" style="color: rgb(8\, 8\, 9)\; font-family: &quot\;Segoe UI Historic&quot\;\, &quot\;Segoe UI&quot\;\, Helvetica\, Arial\, sans-serif\; font-size: 15px\;" />\n<br class="html-br" style="color: rgb(8\, 8\, 9)\; font-family: &quot\;Segoe UI Historic&quot\;\, &quot\;Segoe UI&quot\;\, Helvetica\, Arial\, sans-serif\; font-size: 15px\;" />\n<span style="color: rgb(8\, 8\, 9)\; font-family: &quot\;Segoe UI Historic&quot\;\, &quot\;Segoe UI&quot\;\, Helvetica\, Arial\, sans-serif\; font-size: 15px\;">Auditions will be first come\, first serve\, and conducted individually. Please prepare a song of your choice. You are welcome to bring along sheet music\, a backing track\, or sing acapella. There will also be short dance call that does not need to be prepared in advance.</span><br class="html-br" style="color: rgb(8\, 8\, 9)\; font-family: &quot\;Segoe UI Historic&quot\;\, &quot\;Segoe UI&quot\;\, Helvetica\, Arial\, sans-serif\; font-size: 15px\;" />\n<br class="html-br" style="color: rgb(8\, 8\, 9)\; font-family: &quot\;Segoe UI Historic&quot\;\, &quot\;Segoe UI&quot\;\, Helvetica\, Arial\, sans-serif\; font-size: 15px\;" />\n<span style="color: rgb(8\, 8\, 9)\; font-family: &quot\;Segoe UI Historic&quot\;\, &quot\;Segoe UI&quot\;\, Helvetica\, Arial\, sans-serif\; font-size: 15px\;">Questions can be directed to pacttheatre@gmail.com</span>
LOCATION:Auditions held at Portage Center for the Arts
UID:e.374.38086
SEQUENCE:3
DTSTAMP:20260423T093801Z
URL:http://chamber.portagewi.com/events/details/open-auditions-for-shrek-the-musical-pact-38086
END:VEVENT

END:VCALENDAR
