BEGIN:VCALENDAR
VERSION:2.0
PRODID:-//ChamberMaster//Event Calendar 2.0//EN
METHOD:PUBLISH
X-PUBLISHED-TTL:P3D
REFRESH-INTERVAL:P3D
CALSCALE:GREGORIAN
BEGIN:VEVENT
DTSTART:20260206T220000Z
DTEND:20260207T000000Z
X-MICROSOFT-CDO-ALLDAYEVENT:FALSE
SUMMARY:Opening Reception: Connections to the Land exhibit at PCA
DESCRIPTION:Connections to the Land\n\nBY CHRISTOPHER SWEET\n\nChristopher Sweet is a contemporary Native American artist\, born and raised in Wisconsin. Sweet is an enrolled member of the Ho-Chunk Nation and is also White Earth Ojibwe through his father. Christopher has been a recipient of awards in juried art shows along with having his art featured in printed materials\, corporate spaces\, schools\, and medical facilities and procured for private collections. Christopher's works have been exhibited throughout Wisconsin and the Midwest\, including the Pablo Center at the Confluence in Eau Claire\, the Overture Center for the Arts in Madison\, and the All My Relations Gallery in Minneapolis\, Minnesota.\n\nJoin us for a reception Feb 6 from 4-6pm.\n\nwww.csweetnativeart.com\n\nExhibit on display THRU FEBRUARY 27\, 2026\n\nSponsored by the wild heARTist!\n\nGallery Hours
X-ALT-DESC;FMTTYPE=text/html:<strong>Connections to the Land</strong><br />\nBY CHRISTOPHER SWEET<br />\nChristopher Sweet is a contemporary Native American artist\, born and raised in Wisconsin. Sweet is an enrolled member of the Ho-Chunk Nation and is also White Earth Ojibwe through his father. Christopher has been a recipient of awards in juried art shows along with having his art featured in printed materials\, corporate spaces\, schools\, and medical facilities and procured for private collections. Christopher&rsquo\;s works have been exhibited throughout Wisconsin and the Midwest\, including the Pablo Center at the Confluence in Eau Claire\, the Overture Center for the Arts in Madison\, and the All My Relations Gallery in Minneapolis\, Minnesota.<br />\nJoin us for a reception Feb 6 from 4-6pm.<br />\nwww.csweetnativeart.com<br />\nExhibit on display THRU FEBRUARY 27\, 2026<br />\nSponsored by the wild heARTist!<br />\n<a href="https://www.portagecenterforthearts.com/directions-parking">Gallery Hours</a>
LOCATION:Portage Center for the Arts 301 E. Cook Street
UID:e.374.39713
SEQUENCE:3
DTSTAMP:20260424T122937Z
URL:http://chamber.portagewi.com/events/details/opening-reception-connections-to-the-land-exhibit-at-pca-39713
END:VEVENT

END:VCALENDAR
