BEGIN:VCALENDAR
VERSION:2.0
PRODID:-//ChamberMaster//Event Calendar 2.0//EN
METHOD:PUBLISH
X-PUBLISHED-TTL:P3D
REFRESH-INTERVAL:P3D
CALSCALE:GREGORIAN
BEGIN:VEVENT
DTSTART:20250801T210000Z
DTEND:20250801T230000Z
X-MICROSOFT-CDO-ALLDAYEVENT:FALSE
SUMMARY:Opening Reception: Tiny heART Show
DESCRIPTION:Tiny heART Show\n\nCOMMUNITY ART PROJECT\n\n3x3 tiny canvases make up this Community Art Project at Portage Center for the Arts.\n\nJoin us for an art reception Friday\, August 1 from 4-6pm\; Exhibit will be on display through August 29\, 2025.
X-ALT-DESC;FMTTYPE=text/html:<strong>Tiny heART Show</strong><br />\nCOMMUNITY ART PROJECT<br />\n3x3 tiny canvases make up this Community Art Project at Portage Center for the Arts.<br />\nJoin us for an art reception Friday\, August 1 from 4-6pm\; Exhibit will be on display through August 29\, 2025.
LOCATION:Portage Center for the Arts' Drury Gallery 301 E. Cook Street
UID:e.374.38119
SEQUENCE:3
DTSTAMP:20260423T092430Z
URL:http://chamber.portagewi.com/events/details/opening-reception-tiny-heart-show-38119
END:VEVENT

END:VCALENDAR
