BEGIN:VCALENDAR
VERSION:2.0
PRODID:-//ChamberMaster//Event Calendar 2.0//EN
METHOD:PUBLISH
X-PUBLISHED-TTL:P3D
REFRESH-INTERVAL:P3D
CALSCALE:GREGORIAN
BEGIN:VEVENT
DTSTART;VALUE=DATE:20241115
DTEND;VALUE=DATE:20241116
TRANSP:TRANSPARENT
X-MICROSOFT-CDO-ALLDAYEVENT:TRUE
SUMMARY:PACT Presents: Tony n' Tina's Wedding
DESCRIPTION:Tickets are officially on sale for our fall production\, Tony and Tina's Wedding!\n\n\n\nWe are so excited to be doing a production in the neighboring community of Pardeeville considering our home theatre at the PCA is under construction (please see the Portage Center for the Arts page to see how YOU can help their efforts)!\n\n\n\nShow dates are the 15th\, 16th\, 22nd\, and 23rd of November\, can't wait to see you there!
X-ALT-DESC;FMTTYPE=text/html:<span style="color: rgb(5\, 5\, 5)\; font-family: &quot\;Segoe UI Historic&quot\;\, &quot\;Segoe UI&quot\;\, Helvetica\, Arial\, sans-serif\; font-size: 15px\; white-space-collapse: preserve\;">Tickets are officially on sale for our fall production\, Tony and Tina&#39\;s Wedding!<br />\n<br />\nWe are so excited to be doing a production in the neighboring community of Pardeeville considering our home theatre at the PCA is under construction (please see the </span><span class="html-span xdj266r x11i5rnm xat24cr x1mh8g0r xexx8yu x4uap5 x18d9i69 xkhd6sd x1hl2dhg x16tdsg8 x1vvkbs" style="margin: 0px\; overflow-wrap: break-word\; padding: 0px\; font-family: &quot\;Segoe UI Historic&quot\;\, &quot\;Segoe UI&quot\;\, Helvetica\, Arial\, sans-serif\; color: rgb(5\, 5\, 5)\; font-size: 15px\; white-space-collapse: preserve\;"><a attributionsrc="/privacy_sandbox/comet/register/source/?xt=AZUOgwQ-I5R4BhxHVIMu-flZTBzfy7o6InBfjp6RpKoLE7luxmunNzb5hdBVW45BxPJ8BVPuQb3-Lpt6i3mCTB4VssdQKqEy3oeLUhCEBv2m6UubbgbJswN2C8e02BoEjVhh4XwkQwMViRQkfaz0F7ZRURHe19jMPUzjxHcrdpY8TRoXDNMOPtn54OKvC3JWe8aBqfWvMFfFejO2BVIJbvmoda4bdtELPhPOACz2rRY5beDoYBIjbkrdk8gwEQvFPri9k5X6E0bQaFUVh6R6oMHonZW2vQ_cWh05pqvXC9uxy5eCRUZqQfiURmpI6P--ytQJyfeBYkJNON9b3-_EhKxCIO9I8I7p4an5wmax66H0vr7fQECrn7C115XH4oQhen0ZjB-NAeLlX5Q_L0-CrJLQs6Aly8kfbBByCOczp3hMocE_H5T8buM5QHX9zy7ud2BH78mEAfwVEeqVJekcqqZHgNnTpRUsFE967DUyoAvIG17gGh7Bi09_FxXsRBGYTKOqVKNFZyt4R4PJ8TnyCNJezfihJhG1V1GEO7yWjdXHnElwHWjyLBXp8Fwa1bINhiqdBpzkief-hmStpBLU0TcH1Yajr1idWRHJOV5Cl1yaqk2hXzG6CZnFQDQxtVpiY6QDfNqOl_kU-YjutLCT7mMHHFRDWluVSK7xmU7Q7QVq2mQAaXJ9ZK69gYb1O2pkGP3cVRZhWRU1CloRaD9expx53fQOwMcf0IT834ySP-iHcq9_hJqKrnhFqL6LVjVcFvPRuXScIpv1wKJvvA1z3ikw6ikXd2RLdEn4fV4UR7gyGASxs6eDEsAu14WbibxB3XfEH1-xMX4R-NTmkwLXvXVDgqzKsgEXeNkp9C-2tXOu-RE3O-uQJBO3ekPX0JPPTopjcLKeLlTLRJJn2XImz6dHfUo_BpuwYdzqN9IReBu4uyaE4fUr-3yM2vxxgseUMB3ldRX-zdqgGP7I7a61UWc9BhAXGY6hcGBB5Nxnzsc6_S6wzO3kxoj26SnNPL9nVJzLJ-JJ6j4GrtYFm09SF7_4axeBEnSotjvmPVHrwveGhNhQ41O4dhdi2DrQdk3oa-W4Pv-U2ehb7M0NRGLeaONJ4OOha-qio7u_z4BPYbhYyLuFGGWChLL52hgvbSd7GXIFQR1B2y3eE3Al1lCBPKzcgFuQ91B3cgPMO2qqbdLl4qHM3MYlaEMg9n0eeLXLVoevJ7Z7vM6AS7HGWkVAjB13AIqlcv0yRDKEkGzitIACF6SOnQ_lUDDcQYDw08Ngx7oO8rvRKCLKT5pEgRSdxP4N4WMPS55CxjJdjaj6r9e14B7FcoWv-LHj59wcnH3YnCAhQQDTmrQRrxsMIdBE3Opszml0G5-h9qApzy8B-3cCDOuDS4BRHQwh0sxLov9wA7IjJzoocKcLUzqeYmJiUgP4k03AUAJtpuPCZZmuNdW6viKw-WIW_1xVS-XtDS5I2ak_00qJs71STrgGDN5VgZXHQBOhaW0_3b6i8ADn7dSnvWvx-LnvciYiPFJa8O2yVHR7W11vY6w_ciDiftmeRXJVGEez_6V9n8XLAZviqfazrg" class="x1i10hfl xjbqb8w x1ejq31n xd10rxx x1sy0etr x17r0tee x972fbf xcfux6l x1qhh985 xm0m39n x9f619 x1ypdohk xt0psk2 xe8uvvx xdj266r x11i5rnm xat24cr x1mh8g0r xexx8yu x4uap5 x18d9i69 xkhd6sd x16tdsg8 x1hl2dhg xggy1nq x1a2a7pz x1sur9pj xkrqix3 x1fey0fg xo1l8bm" href="https://www.facebook.com/portagecenterforthearts?__cft__[0]=AZUzez79YlXOow7T5VpF6VzRpLN8mNWuhtddNorF2mD8eIUjN0-atYTezNiSrjxIbejVM3oUnDSrSnnrQxAg-XQQiJ9AmygBMntzv5rmgFJjhQlojY4Zpcu_PDaHlhfbwghpdY7h79umNOe4YcrG3DxewZJt1qnwrz27_KA910iPcjUD9ncBT8X2fwJICLLUs7W1Ie3OF6R4TNo3Yy1NEM3XucgfyxNk-tCRjDmpLkADyA&amp\;__tn__=-]K-R" role="link" style="color: var(--blue-link)\; cursor: pointer\; text-decoration-line: none\; list-style: none\; margin: 0px\; text-align: inherit\; border-style: none\; padding: 0px\; box-sizing: border-box\; border-width: 0px\; outline: none\; -webkit-tap-highlight-color: transparent\; touch-action: manipulation\; background-color: transparent\; display: inline\; font-family: inherit\;" tabindex="0"><span class="xt0psk2" style="display: inline\; font-family: inherit\;">Portage Center for the Arts</span></a></span><span style="color: rgb(5\, 5\, 5)\; font-family: &quot\;Segoe UI Historic&quot\;\, &quot\;Segoe UI&quot\;\, Helvetica\, Arial\, sans-serif\; font-size: 15px\; white-space-collapse: preserve\;"> page to see how YOU can help their efforts)!<br />\n<br />\nShow dates are the 15th\, 16th\, 22nd\, and 23rd of November\, can&#39\;t wait to see you there!</span><span font-size:="" segoe="" style="color: rgb(5\, 5\, 5)\; font-family: " ui="" white-space-collapse:=""> </span>
LOCATION:113 Industrial Drive Pardeeville\, WI 53954
UID:e.374.35912
SEQUENCE:3
DTSTAMP:20260423T213051Z
URL:http://chamber.portagewi.com/events/details/pact-presents-tony-n-tina-s-wedding-35912
END:VEVENT

END:VCALENDAR
