BEGIN:VCALENDAR
VERSION:2.0
PRODID:-//ChamberMaster//Event Calendar 2.0//EN
METHOD:PUBLISH
X-PUBLISHED-TTL:P3D
REFRESH-INTERVAL:P3D
CALSCALE:GREGORIAN
BEGIN:VEVENT
DTSTART:20251015T220000Z
DTEND:20251015T233000Z
X-MICROSOFT-CDO-ALLDAYEVENT:FALSE
SUMMARY:Painting with Robin Kvalo
DESCRIPTION:Painting with Robin Kvalo at the Portage Public Library.\n\nRobin will guide you through this adult painting program step-by-step.
X-ALT-DESC;FMTTYPE=text/html:Painting with Robin Kvalo at the Portage Public Library.<br />\nRobin will guide you through this adult painting program step-by-step.&nbsp\;<br />\n&nbsp\;
LOCATION:Portage Public Library 253 W. Edgewater Street
UID:e.374.38934
SEQUENCE:3
DTSTAMP:20260423T043839Z
URL:http://chamber.portagewi.com/events/details/painting-with-robin-kvalo-38934
END:VEVENT

END:VCALENDAR
