BEGIN:VCALENDAR
VERSION:2.0
PRODID:-//ChamberMaster//Event Calendar 2.0//EN
METHOD:PUBLISH
X-PUBLISHED-TTL:P3D
REFRESH-INTERVAL:P3D
CALSCALE:GREGORIAN
BEGIN:VEVENT
DTSTART;VALUE=DATE:20241115
DTEND;VALUE=DATE:20241116
TRANSP:TRANSPARENT
X-MICROSOFT-CDO-ALLDAYEVENT:TRUE
SUMMARY:Patriots of the American Revolution Display at Library
DESCRIPTION:Discover the legacy of the Patriots of the American Revolution and their connections to Wisconsin and the Portage Community. Engage in banner displays and an electronic kiosk featuring highlights of their contributions to Wisconsin. The display is available for viewing until Wednesday\, November 27.\n\nThe Portage Public Library is located at 253 W. Edgewater Street.
X-ALT-DESC;FMTTYPE=text/html:<p style="box-sizing: border-box\; margin-block: 0px 0.9rem\; color: rgb(0\, 0\, 0)\; font-family: Arial\, sans-serif\; font-size: 16px\; font-style: normal\; font-variant-ligatures: normal\; font-variant-caps: normal\; font-weight: 200\; letter-spacing: normal\; orphans: 2\; text-align: left\; text-indent: 0px\; text-transform: none\; widows: 2\; word-spacing: 0px\; -webkit-text-stroke-width: 0px\; white-space: normal\; background-color: rgb(255\, 255\, 255)\; text-decoration-thickness: initial\; text-decoration-style: initial\; text-decoration-color: initial\;">Discover the legacy of the Patriots of the American Revolution and their connections to Wisconsin and the Portage Community. Engage in banner displays and an electronic kiosk featuring highlights of their contributions to Wisconsin. The display is available for viewing until Wednesday\, November 27.</p>\n\n<p style="box-sizing: border-box\; margin-block: 0px 0.9rem\; color: rgb(0\, 0\, 0)\; font-family: Arial\, sans-serif\; font-size: 16px\; font-style: normal\; font-variant-ligatures: normal\; font-variant-caps: normal\; font-weight: 200\; letter-spacing: normal\; orphans: 2\; text-align: left\; text-indent: 0px\; text-transform: none\; widows: 2\; word-spacing: 0px\; -webkit-text-stroke-width: 0px\; white-space: normal\; background-color: rgb(255\, 255\, 255)\; text-decoration-thickness: initial\; text-decoration-style: initial\; text-decoration-color: initial\;">The<span>&nbsp\;</span><a href="https://www.portagelibrary.us/" style="box-sizing: border-box\; background-color: transparent\; text-decoration: none\; color: var( --e-global-color-primary )\; box-shadow: none\; font-family: var( --e-global-typography-text-font-family )\, Sans-serif\; font-size: var( --e-global-typography-text-font-size )\; font-weight: var( --e-global-typography-text-font-weight )\; line-height: var( --e-global-typography-text-line-height )\;" title="">Portage Public Library</a><span>&nbsp\;</span>is located at 253 W. Edgewater Street.</p>\n
LOCATION:
UID:e.374.36055
SEQUENCE:3
DTSTAMP:20260423T213240Z
URL:http://chamber.portagewi.com/events/details/patriots-of-the-american-revolution-display-at-library-11-15-2024-36055
END:VEVENT

END:VCALENDAR
