BEGIN:VCALENDAR
VERSION:2.0
PRODID:-//ChamberMaster//Event Calendar 2.0//EN
METHOD:PUBLISH
X-PUBLISHED-TTL:P3D
REFRESH-INTERVAL:P3D
CALSCALE:GREGORIAN
BEGIN:VEVENT
DTSTART:20190328T170000Z
DTEND:20190328T180000Z
X-MICROSOFT-CDO-ALLDAYEVENT:FALSE
SUMMARY:PCA Brown Bag Lunch Series
DESCRIPTION:Bob Kann - Learn more about Joyce Westerman who played for eight years in the All American Girls Professional Baseball League.\n\nGUEST ARTISTS SELECTED FOR THIS NOONTIME SERIES OFFER INFORMAL PRESENTATIONS ON A VARIETY OF TOPICS. \n\n\n\nBRING YOUR LUNCH AND INVITE A FRIEND!
X-ALT-DESC;FMTTYPE=text/html:<font face="Times New Roman"><font face="Arial">Bob Kann - Learn more about Joyce Westerman who played for eight years in the All American Girls Professional Baseball League.</font><br />\n<em>GUEST ARTISTS SELECTED FOR THIS NOONTIME SERIES OFFER INFORMAL PRESENTATIONS ON A VARIETY OF TOPICS.&nbsp\;<br />\n<br />\nBRING YOUR LUNCH AND INVITE A FRIEND!</em></font><br />\n&nbsp\;
LOCATION:Portage Center for the Arts 301 E Cook St. Portage WI 53901
UID:e.374.23930
SEQUENCE:3
DTSTAMP:20260421T215719Z
URL:http://chamber.portagewi.com/events/details/pca-brown-bag-lunch-series-23930
END:VEVENT

END:VCALENDAR
