BEGIN:VCALENDAR
VERSION:2.0
PRODID:-//ChamberMaster//Event Calendar 2.0//EN
METHOD:PUBLISH
X-PUBLISHED-TTL:P3D
REFRESH-INTERVAL:P3D
CALSCALE:GREGORIAN
BEGIN:VEVENT
DTSTART:20190314T140000Z
DTEND:20190314T190000Z
X-MICROSOFT-CDO-ALLDAYEVENT:FALSE
SUMMARY:Pi Day (3.14) at the Library
DESCRIPTION:The Friends of the Portage Library invite you to celebrate Pi Day.  (3.14)\n\nStop in for a slice of pie for $3 or a whole pie for $14.\n\nDine in or carry out.  \n\nProceeds are used for Library Programming.
X-ALT-DESC;FMTTYPE=text/html:<p><span style="font-size: 16px\;">The Friends of the Portage Library invite you to celebrate Pi Day.&nbsp\; (3.14)<br />\nStop in for a slice&nbsp\;of pie for $3 or a whole pie for $14.<br />\nDine in or carry out.&nbsp\; </span></p>\n\n<p><span style="font-size: 16px\;">Proceeds are used for Library Programming.</span></p>\n
LOCATION:Portage Public Library 253 West Edgewater Street
UID:e.374.25652
SEQUENCE:3
DTSTAMP:20260421T215513Z
URL:http://chamber.portagewi.com/events/details/pi-day-3-14-at-the-library-25652
END:VEVENT

END:VCALENDAR
