BEGIN:VCALENDAR
VERSION:2.0
PRODID:-//ChamberMaster//Event Calendar 2.0//EN
METHOD:PUBLISH
X-PUBLISHED-TTL:P3D
REFRESH-INTERVAL:P3D
CALSCALE:GREGORIAN
BEGIN:VEVENT
DTSTART;VALUE=DATE:20250922
DTEND;VALUE=DATE:20250923
TRANSP:TRANSPARENT
X-MICROSOFT-CDO-ALLDAYEVENT:TRUE
SUMMARY:Pizza Ranch Share Day for Beyond Blessed Pantry
DESCRIPTION:Pizza Ranch Share Day x3\n\nBeyond Blessed Pantry will receive a % of sales from Baraboo\, Reedsburg\, and Portage locations. Pizza Ranch will donate 10% back from each Ranch plus 100% of the tips that day. Come say "Hi" and enjoy delicious food for lunch and dinner!!
X-ALT-DESC;FMTTYPE=text/html:<strong>Pizza Ranch Share Day x3</strong><br />\nBeyond Blessed Pantry will receive a % of sales from Baraboo\, Reedsburg\, and Portage locations. <!--StartFragment--><span data-olk-copy-source="MessageBody">Pizza Ranch will donate 10% back from each Ranch plus 100% of the tips that day.&nbsp\;</span><!--EndFragment-->Come say &quot\;Hi&quot\; and enjoy delicious food for lunch and dinner!!&nbsp\;
LOCATION:Pizza Ranch: Baraboo\, Reedsburg and Portage locations
UID:e.374.38882
SEQUENCE:3
DTSTAMP:20260423T074646Z
URL:http://chamber.portagewi.com/events/details/pizza-ranch-share-day-for-beyond-blessed-pantry-38882
END:VEVENT

END:VCALENDAR
