BEGIN:VCALENDAR
VERSION:2.0
PRODID:-//ChamberMaster//Event Calendar 2.0//EN
METHOD:PUBLISH
X-PUBLISHED-TTL:P3D
REFRESH-INTERVAL:P3D
CALSCALE:GREGORIAN
BEGIN:VEVENT
DTSTART;VALUE=DATE:20190308
DTEND;VALUE=DATE:20190310
TRANSP:TRANSPARENT
X-MICROSOFT-CDO-ALLDAYEVENT:TRUE
SUMMARY:Portage Alumni Curling Bonspiel
DESCRIPTION:Portage Alumni gather and form teams in this 2-day event that emphasizes fun\, family\, and friendships.\n\nIt will start Friday night from 6pm until 10pm.  Saturday will be from 9am until 7pm.  The revenue will be used to provide scholarships to Portage High School graduating curlers.
X-ALT-DESC;FMTTYPE=text/html:<p><span style="font-size: 16px\;"><span style="font-family: arial\;">Portage Alumni gather and form teams in this 2-day event that emphasizes fun\, family\, and friendships.</span></span></p>\n\n<p style="margin: 0in 0in 0pt\;"><span style="font-size: 16px\;"><span style="font-family: arial\;"><span new="" times=""><font color="#000000">It will start Friday night&nbsp\;from 6pm until 10pm. &nbsp\;Saturday will be from 9am until 7pm. &nbsp\;The revenue will be used to provide scholarships to Portage High School graduating curlers.</font></span></span></span></p>\n
LOCATION:Portage Curling Club 107 West Albert Street
UID:e.374.24393
SEQUENCE:3
DTSTAMP:20260421T220058Z
URL:http://chamber.portagewi.com/events/details/portage-alumni-curling-bonspiel-24393
END:VEVENT

END:VCALENDAR
