BEGIN:VCALENDAR
VERSION:2.0
PRODID:-//ChamberMaster//Event Calendar 2.0//EN
METHOD:PUBLISH
X-PUBLISHED-TTL:P3D
REFRESH-INTERVAL:P3D
CALSCALE:GREGORIAN
BEGIN:VEVENT
DTSTART:20260214T160000Z
DTEND:20260214T190000Z
X-MICROSOFT-CDO-ALLDAYEVENT:FALSE
SUMMARY:Portage Chocolate Tour
DESCRIPTION:Celebrate Valentine's Day the SWEET way with the Portage Chocolate Tour. Explore Portage - one sweet stop at a time happening Friday\, February 14!\n\n\n\nGrab your ticket and you will visit participating Chamber member businesses across Portage\, to enjoy a chocolate treat at each stop\, and get your chocolate punch card stamped along the way.\n\n\n\nFrom rich dark chocolate and creamy milk chocolate to fun creative treats\, every stop will offer something delicious to sample.  Each business will be providing you a chocolate treat that they picked out just for you! \n\n \n\nMany participating businesses will also be offering Valentine's and Galentine's Day specials\, making this the perfect day to shop\, dine\, and treat yourself whether you're coming with a partner\, friends\, or your favorite gal pals.\n\n \n\n	Tickets are required | $20 per person    https://www.eventbrite.com/e/portage-chocolate-tour-tickets-1980146642913?aff=oddtdtcreator\n	In person tickets can be purchased by cash or check at the Chamber office\, The Mercantile or Main Street Consignment\n	Chocolate sample at each stop (provided by the business)\n	Event runs 10:00 AM   1:00 PM\n	18 different chocolate samples \n	All guests on the Chocolate Tour will receive a gift bag to collect your chocolates provided by Portage State Bank.\n\n\n \n\nHere are the Chocolate Tour Stops along with their chocolate samples and a few fun specials along the Tour!\n\n \n\n\n	\n	Edgewater Home & Garden is offering an Ecuadorian chocolate sample.  This is a new chocolate line they are launching and today a representative from the chocolate company will be onsite to share the samples.\n	\n	\n	Sweet Sanctuary Services will have Chocolate covered dried apricots with pistachio topping. Plus\, Kasey will be offering some specials on services that day to include: offering 15% off in store products\; a special self-love reiki session\, 30 min for $30 to book on a later date\; 10% off any organizing sessions during the Chocolate Tour\n	\n	\n	Portage Center for the Arts will be offering a Guth's Chocolate sample with a fun activity where you can 'pour your heart out' on the stage.   It will be an Open Mic style\, with a screening on an old silent movie in the background. Guests can go on stage and share poetry\, perform a little jig\, or something else they love. There will be books on stage that have quotes\, songs\, lyrics\, poetry and guests can read or sing from.\n	\n	\n	Main Street Consignment is offering cupcakes that are Red Velvet w/Cream Cheese Frosting or White Chocolate w/Raspberry.  Plus\, Amberly is offering 14% off storewide purchases for this day\n	\n	\n	First Weber Realtors will be offering hot cocoa.  Plus\, you can enter to win cocoa mugs filled with chocolate treats.\n	\n	\n	Portage Elks Lodge #657 is working together with the Fort Winnebago Surgeons Quarters and they will all be at the Elks Lodge offering coffee and chocolate biscotti\n	\n	\n	DeWitt Street Nutrition is working with River Haven Homeless Shelter and you will get 2 samples here at DeWitt Street Nutrition.  Chocolate covered protein bites from DeWitt Street Nutrition and River Haven Homeless Shelter will be providing guests with a Chocolate Fountain that you can dip fruit and other goodies with chocolate.  \n	\n	\n	J&J Fireball Lanes will be providing non-alcoholic truffles and for those over 21\, who want to try can indulge in a Licor 43 chocolate sample\n	\n	\n	Forever Yours Jewelry will be making homemade chocolate brownies\n	\n	\n	Frost Dragon Market will be offering various Lindor Truffles\n	\n	\n	Allstate Insurance-Shelly Cibulka Insurance Group will be offering chocolate dipped Oreos\n	\n	\n	Rustic Rediscoveries Thrift Shop will be offering white chocolate dipped strawberries\n	\n	\n	1873 Bar & Grill - stay tuned to hear about their chocolate goodness\n	\n	\n	The Mercantile will be offering light or dark chocolate caramel or a chocolate mint \n	\n	Wilz Hometown Pharmacy will be offering a variety of chocolate treats at the Chamber office to go when you come to exchange your ticket for the chocolate map and bag.\n	 Smart Woman & Fancy Pants will be offering white or milk chocolate Oreo truffles\n	Bliffert Lumber & Design will be offering mini specialty chocolate cupcakes \n	Festival Foods will be offering Russell Stover Dubai chocolate sample
X-ALT-DESC;FMTTYPE=text/html:<div class="undefined" font-size:="" helvetica="" neue="" style="margin: 0px\; padding: 0px\; box-sizing: border-box\; color: rgb(57\, 54\, 79)\; font-family: ">\n<div class="summary" letter-spacing:="" neue="" style="margin: 0px 0px 23.994px\; padding: 0px\; box-sizing: border-box\; color: rgb(88\, 81\, 99)\; font-variant-numeric: normal\; font-variant-east-asian: normal\; font-variant-alternates: normal\; font-size-adjust: none\; font-language-override: normal\; font-kerning: auto\; font-optical-sizing: auto\; font-feature-settings: normal\; font-variation-settings: normal\; font-variant-position: normal\; font-variant-emoji: normal\; font-stretch: normal\; font-size: 18px\; line-height: 1.333\; font-family: " word-break:=""><span style="color:#000000\;"><span style="font-family:tahoma\;"><span style="font-size:14px\;">Celebrate Valentine&rsquo\;s Day the SWEET way with the Portage Chocolate Tour.&nbsp\;Explore Portage - one sweet stop at a time happening Friday\, February 14!<br />\n<br />\nGrab your ticket and you will visit participating Chamber member businesses across Portage\, to enjoy a chocolate treat at each stop\, and get your chocolate punch card stamped along the way.<br />\n<br />\nFrom rich dark chocolate and creamy milk chocolate to fun creative treats\, every stop will offer something delicious to sample.&nbsp\; Each business will be providing you a chocolate treat that they picked out just for you!&nbsp\;<br />\n&nbsp\;<br />\nMany participating businesses will also be offering Valentine&rsquo\;s and Galentine&rsquo\;s Day specials\, making this the perfect day to shop\, dine\, and treat yourself&mdash\;whether you&rsquo\;re coming with a partner\, friends\, or your favorite gal pals.</span></span></span><br />\n&nbsp\;\n<ul>\n	<li><span style="font-family:tahoma\;"><span style="font-size:14px\;"><span style="color:#000000\;">Tickets are required | $20 per person&nbsp\;</span> &nbsp\;&nbsp\;<a href="https://www.eventbrite.com/e/portage-chocolate-tour-tickets-1980146642913?aff=oddtdtcreator">https://www.eventbrite.com/e/portage-chocolate-tour-tickets-1980146642913?aff=oddtdtcreator</a></span></span></li>\n	<li><span style="color:#000000\;"><span style="font-family:tahoma\;"><span style="font-size:14px\;">In person tickets can be purchased by cash or check at the Chamber office\, The Mercantile or Main Street Consignment</span></span></span></li>\n	<li><span style="color:#000000\;"><span style="font-family:tahoma\;"><span style="font-size:14px\;">Chocolate sample at each stop (provided by the business)</span></span></span></li>\n	<li><span style="color:#000000\;"><span style="font-family:tahoma\;"><span style="font-size:14px\;">Event runs 10:00 AM &ndash\; 1:00 PM</span></span></span></li>\n	<li><span style="color:#000000\;"><span style="font-family:tahoma\;"><span style="font-size:14px\;">18&nbsp\;different chocolate samples&nbsp\;</span></span></span></li>\n	<li><span style="color:#000000\;"><span style="font-family:tahoma\;"><span style="font-size:14px\;">All guests on the Chocolate Tour will receive a gift bag to collect your chocolates provided by Portage State Bank.</span></span></span></li>\n</ul>\n\n<div style="margin-top: 0.5em\; margin-bottom: 0px\; font-family: Calibri\, Helvetica\, sans-serif\; font-size: 12pt\; color: rgb(0\, 0\, 0)\;">&nbsp\;</div>\n\n<div style="margin-top: 0.5em\; margin-bottom: 0px\; font-family: Calibri\, Helvetica\, sans-serif\; font-size: 12pt\; color: rgb(0\, 0\, 0)\;"><span style="font-size:14px\;"><span style="font-family:tahoma\;">Here are the Chocolate Tour Stops along with their chocolate samples and a few fun specials along the Tour!</span></span></div>\n\n<div style="margin: 0px\; font-family: Calibri\, Helvetica\, sans-serif\; font-size: 12pt\; color: rgb(0\, 0\, 0)\;">&nbsp\;</div>\n\n<ul data-editing-info="{" style="margin-top: 0px\; margin-bottom: 0px\;">\n	<li style="font-family: Calibri\, Helvetica\, sans-serif\; font-size: 12pt\; color: rgb(0\, 0\, 0)\;">\n	<div role="presentation" style="margin: 0px\;"><span style="font-size:14px\;"><span style="font-family:tahoma\;">Edgewater Home &amp\; Garden is offering an Ecuadorian chocolate sample.&nbsp\; This is a new chocolate line they are launching and today a representative from the chocolate company will be onsite to share the samples.</span></span></div>\n	</li>\n	<li style="font-family: Calibri\, Helvetica\, sans-serif\; font-size: 12pt\; color: rgb(0\, 0\, 0)\;">\n	<div role="presentation" style="margin: 0px\;"><span style="font-size:14px\;"><span style="font-family:tahoma\;">Sweet Sanctuary Services will have Chocolate covered dried apricots with pistachio topping. Plus\, Kasey will be offering some specials on services that day to include: offering 15%&nbsp\;off in store products\; a special self-love reiki session\, 30 min for $30 to book on a later date\; 10% off any organizing sessions during the Chocolate Tour</span></span></div>\n	</li>\n	<li style="font-family: Calibri\, Helvetica\, sans-serif\; font-size: 12pt\; color: rgb(0\, 0\, 0)\;">\n	<div role="presentation" style="margin: 0px\;"><span style="font-size:14px\;"><span style="font-family:tahoma\;">Portage Center for the Arts will be offering a Guth&#39\;s Chocolate sample with a fun activity where you can &#39\;pour your heart out&#39\; on the stage.&nbsp\; &nbsp\;It will be an Open Mic style\, with a screening on an old silent movie in the background. Guests can go on stage and share poetry\, perform a little jig\, or something else they love. There will be books on stage that have quotes\, songs\, lyrics\, poetry and guests can read or sing from.</span></span></div>\n	</li>\n	<li style="font-family: Calibri\, Helvetica\, sans-serif\; font-size: 12pt\; color: rgb(0\, 0\, 0)\;">\n	<div role="presentation" style="margin: 0px\;"><span style="font-size:14px\;"><span style="font-family:tahoma\;">Main Street Consignment is offering cupcakes that are Red Velvet w/Cream Cheese Frosting or White Chocolate w/Raspberry.&nbsp\; Plus\, Amberly is offering 14% off storewide purchases for this day</span></span></div>\n	</li>\n	<li style="font-family: Calibri\, Helvetica\, sans-serif\; font-size: 12pt\; color: rgb(0\, 0\, 0)\;">\n	<div role="presentation" style="margin: 0px\;"><span style="font-size:14px\;"><span style="font-family:tahoma\;">First Weber Realtors will be offering hot cocoa.&nbsp\; Plus\, you can enter to win cocoa mugs filled with chocolate treats.</span></span></div>\n	</li>\n	<li style="font-family: Calibri\, Helvetica\, sans-serif\; font-size: 12pt\; color: rgb(0\, 0\, 0)\;">\n	<div role="presentation" style="margin: 0px\;"><span style="font-size:14px\;"><span style="font-family:tahoma\;">Portage Elks Lodge #657 is working together with the Fort Winnebago Surgeons Quarters and they will all be at the Elks Lodge offering coffee and chocolate biscotti</span></span></div>\n	</li>\n	<li style="font-family: Calibri\, Helvetica\, sans-serif\; font-size: 12pt\; color: rgb(0\, 0\, 0)\;">\n	<div role="presentation" style="margin: 0px\;"><span style="font-size:14px\;"><span style="font-family:tahoma\;">DeWitt Street Nutrition is working with River Haven Homeless Shelter and you will get 2 samples here at DeWitt Street Nutrition.&nbsp\; Chocolate covered protein bites from DeWitt Street Nutrition and River Haven Homeless Shelter will be providing guests with a Chocolate Fountain that you can dip fruit and other goodies with chocolate.&nbsp\;&nbsp\;</span></span></div>\n	</li>\n	<li style="font-family: Calibri\, Helvetica\, sans-serif\; font-size: 12pt\; color: rgb(0\, 0\, 0)\;">\n	<div role="presentation" style="margin: 0px\;"><span style="font-size:14px\;"><span style="font-family:tahoma\;">J&amp\;J Fireball Lanes will be providing non-alcoholic truffles and for those over 21\, who want to try can indulge in a Licor 43 chocolate sample</span></span></div>\n	</li>\n	<li style="font-family: Calibri\, Helvetica\, sans-serif\; font-size: 12pt\; color: rgb(0\, 0\, 0)\;">\n	<div role="presentation" style="margin: 0px\;"><span style="font-size:14px\;"><span style="font-family:tahoma\;">Forever Yours Jewelry will&nbsp\;be making homemade chocolate brownies</span></span></div>\n	</li>\n	<li style="font-family: Calibri\, Helvetica\, sans-serif\; font-size: 12pt\; color: rgb(0\, 0\, 0)\;">\n	<div role="presentation" style="margin: 0px\;"><span style="font-size:14px\;"><span style="font-family:tahoma\;">Frost Dragon Market will be offering various Lindor Truffles</span></span></div>\n	</li>\n	<li style="font-family: Calibri\, Helvetica\, sans-serif\; font-size: 12pt\; color: rgb(0\, 0\, 0)\;">\n	<div role="presentation" style="margin: 0px\;"><span style="font-size:14px\;"><span style="font-family:tahoma\;">Allstate Insurance-Shelly Cibulka Insurance Group will be offering chocolate dipped Oreos</span></span></div>\n	</li>\n	<li style="font-family: Calibri\, Helvetica\, sans-serif\; font-size: 12pt\; color: rgb(0\, 0\, 0)\;">\n	<div role="presentation" style="margin: 0px\;"><span style="font-size:14px\;"><span style="font-family:tahoma\;">Rustic Rediscoveries Thrift Shop will be offering white chocolate dipped strawberries</span></span></div>\n	</li>\n	<li style="font-family: Calibri\, Helvetica\, sans-serif\; font-size: 12pt\; color: rgb(0\, 0\, 0)\;">\n	<div role="presentation" style="margin: 0px\; font-family: Calibri\, Helvetica\, sans-serif\, serif\, EmojiFont\;"><span style="font-size:14px\;"><span style="font-family:tahoma\;">1873 Bar &amp\; Grill - stay tuned to hear about their chocolate goodness</span></span></div>\n	</li>\n	<li style="font-family: Calibri\, Helvetica\, sans-serif\; font-size: 12pt\; color: rgb(0\, 0\, 0)\;">\n	<div role="presentation" style="margin: 0px\; font-family: Calibri\, Helvetica\, sans-serif\, serif\, EmojiFont\;"><span style="font-size:14px\;"><span style="font-family:tahoma\;">The Mercantile will be offering light or dark chocolate caramel&nbsp\;or a chocolate mint&nbsp\;</span></span></div>\n	</li>\n	<li role="presentation" style="font-size: 12pt\; color: rgb(0\, 0\, 0)\; margin: 0px\; font-family: Calibri\, Helvetica\, sans-serif\, serif\, EmojiFont\;"><span style="font-size:14px\;"><span style="font-family:tahoma\;">Wilz Hometown Pharmacy will be offering a variety of chocolate treats at the Chamber office to go when you come to exchange your ticket for the chocolate map and bag.</span></span></li>\n	<li role="presentation" style="font-size: 12pt\; color: rgb(0\, 0\, 0)\; margin: 0px\; font-family: Calibri\, Helvetica\, sans-serif\, serif\, EmojiFont\;"><span style="font-size:14px\;"><span style="font-family:tahoma\;">&#8203\;Smart Woman &amp\; Fancy Pants will be offering white or&nbsp\;milk chocolate Oreo truffles</span></span></li>\n	<li role="presentation" style="font-size: 12pt\; color: rgb(0\, 0\, 0)\; margin: 0px\; font-family: Calibri\, Helvetica\, sans-serif\, serif\, EmojiFont\;"><span style="font-size:14px\;"><span style="font-family:tahoma\;">Bliffert Lumber &amp\; Design will be offering mini specialty chocolate cupcakes&nbsp\;</span></span></li>\n	<li role="presentation" style="font-size: 12pt\; color: rgb(0\, 0\, 0)\; margin: 0px\; font-family: Calibri\, Helvetica\, sans-serif\, serif\, EmojiFont\;"><span style="font-size:14px\;"><span style="font-family:tahoma\;">Festival Foods will be offering Russell Stover Dubai chocolate sample<br />\n	&#8203\;</span></span></li>\n</ul>\n</div>\n</div>\n
LOCATION:
UID:e.374.39706
SEQUENCE:3
DTSTAMP:20260424T122533Z
URL:http://chamber.portagewi.com/events/details/portage-chocolate-tour-39706
END:VEVENT

END:VCALENDAR
