BEGIN:VCALENDAR
VERSION:2.0
PRODID:-//ChamberMaster//Event Calendar 2.0//EN
METHOD:PUBLISH
X-PUBLISHED-TTL:P3D
REFRESH-INTERVAL:P3D
CALSCALE:GREGORIAN
BEGIN:VEVENT
DTSTART;VALUE=DATE:20220530
DTEND;VALUE=DATE:20220531
TRANSP:TRANSPARENT
X-MICROSOFT-CDO-ALLDAYEVENT:TRUE
SUMMARY:Portage CrossFit Cooperative Memorial Day Murph WOD & Fundraiser
DESCRIPTION:We invite EVERYONE to join our fun-filled community event Monday\, May 30th for CrossFit's traditional Memorial Day WOD in honor of Navy Lieutenant Michael Patrick Murphy\, 29\, of Patchogue\, N.Y.\, who was killed in Afghanistan June 28th\, 2005. You can do all or part of the workout. Partner up and do it as a team of 2-3 if you want!! Drop ins are very welcome!\n\n\n\nTIME: Doors will open at 7:30AM to start warming up.  Heats will begin at 8AM\n\n\n\nFamily and friends are welcome and encouraged to participate or cheer!! Please sign up here to let our coaches and your friends know you're coming.\n\n\n\nDONATIONS: We ask PCC members to make a free will donation supporting the City of Portage Police Department's K-9 Program in memory of K-9\, Ares\, who passed away unexpectedly in March. Proceeds will help fund a new K-9 officer\, training and equipment. All drop in fees will go toward this fundraiser!\n\n\n\nPOTLUCK: Following the "Murph" WOD\, PCC would like to invite all members\, drop ins\, family and friends to a potluck. Be sure to BYOB\, a dish to pass\, a folding chair\, and your family and friends!\n\n\n\nOur heartfelt gratitude to all of the men and women past and present who serve and sacrifice so that we may continue to enjoy our freedom.
X-ALT-DESC;FMTTYPE=text/html:<span style="font-size:14px\;"><span style="font-family:arial\;">We invite EVERYONE to join our fun-filled community event Monday\, May 30th for CrossFit&#39\;s traditional Memorial Day WOD in honor of Navy Lieutenant Michael Patrick Murphy\, 29\, of Patchogue\, N.Y.\, who was killed in Afghanistan June 28th\, 2005. You can do all or part of the workout. Partner up and do it as a team of 2-3 if you want!! Drop ins are very welcome!</span></span>\n\n<div class="spaceBelow" id="Description"><br />\n<span style="font-size:14px\;"><span style="font-family:arial\;">TIME: Doors will open at 7:30AM to start warming up.&nbsp\; Heats will begin at 8AM<br />\n<br />\nFamily and friends are welcome and encouraged to participate or cheer!! <a href="http://www.portagecrossfitcooperative.com/schedule.html?fbclid=IwAR2HsXWZR9MHu8XTWTJgtJG1xpHaXWLhe0COH2slIU4BvsYNISCe5TBCCgI" target="_blank">Please sign up here</a> to let our coaches and your friends know you&#39\;re coming.<br />\n<br />\nDONATIONS: We ask PCC members to make a free will donation supporting the City of Portage Police Department&#39\;s K-9 Program in memory of K-9\, Ares\, who passed away unexpectedly in March. Proceeds will help fund a new K-9 officer\, training and equipment. All drop in fees will go toward this fundraiser!<br />\n<br />\nPOTLUCK: Following the &quot\;Murph&quot\; WOD\, PCC would like to invite all members\, drop ins\, family and friends to a potluck. Be sure to BYOB\, a dish to pass\, a folding chair\, and your family and friends!<br />\n<br />\nOur heartfelt gratitude to all of the men and women past and present who serve and sacrifice so that we may continue to enjoy our freedom.</span></span></div>\n
LOCATION:Portage CrossFit 211 Albert Street Portage\, WI 53901
UID:e.374.29670
SEQUENCE:3
DTSTAMP:20260424T112208Z
URL:http://chamber.portagewi.com/events/details/portage-crossfit-cooperative-memorial-day-murph-wod-fundraiser-29670
END:VEVENT

END:VCALENDAR
