BEGIN:VCALENDAR
VERSION:2.0
PRODID:-//ChamberMaster//Event Calendar 2.0//EN
METHOD:PUBLISH
X-PUBLISHED-TTL:P3D
REFRESH-INTERVAL:P3D
CALSCALE:GREGORIAN
BEGIN:VEVENT
DTSTART:20231203T190000Z
DTEND:20231203T200000Z
X-MICROSOFT-CDO-ALLDAYEVENT:FALSE
SUMMARY:Portage Elks Lodge Memorial Service
DESCRIPTION:The Portage Elks Lodge will observe their annual Memorial Service on Sunday\, December 3 at the the Elks Lodge starting at 1pm.\n\n\n\nThe service was conceived early in the Elks' history by members who wished to remember their departed members and cherish their memory.  The services has been and remains a mandatory event for over 100 years in the the Order of Elks. \n\n\n\nThe departed members to be remembered are Elmer Gosda\, Alvin Johnson\, Maurice Goodman and Carolyn Rowland.  All Elks\, their families and the public are cordially invited to attend the service.
X-ALT-DESC;FMTTYPE=text/html:The Portage Elks Lodge will observe their annual Memorial Service on Sunday\, December 3 at the the Elks Lodge starting at 1pm.<br />\n<br />\nThe service was conceived early in the Elks&#39\; history by members who wished to remember their departed members and cherish their memory.&nbsp\; The services has been and remains a mandatory event for over 100 years in the the Order of Elks.&nbsp\;<br />\n<br />\nThe departed members to be remembered are Elmer Gosda\, Alvin Johnson\, Maurice Goodman and Carolyn Rowland.&nbsp\; All Elks\, their families and the public are cordially invited to attend the service.&nbsp\; &nbsp\;&nbsp\;
LOCATION:201 West Conant Street Portage\, WI 53901
UID:e.374.33900
SEQUENCE:3
DTSTAMP:20260424T153729Z
URL:http://chamber.portagewi.com/events/details/portage-elks-lodge-memorial-service-33900
END:VEVENT

END:VCALENDAR
