BEGIN:VCALENDAR
VERSION:2.0
PRODID:-//ChamberMaster//Event Calendar 2.0//EN
METHOD:PUBLISH
X-PUBLISHED-TTL:P3D
REFRESH-INTERVAL:P3D
CALSCALE:GREGORIAN
BEGIN:VEVENT
DTSTART:20190330T170000Z
DTEND:20190330T210000Z
X-MICROSOFT-CDO-ALLDAYEVENT:FALSE
SUMMARY:Portage Lions Club Radio Auction
DESCRIPTION:Fundraiser for Portage Lions Club to help support pre-school vision screening\, eye exams\, glasses for the needy and transportation of eye tissue to and from the Eye Bank in Madison. Other projects include scholarships\, annual Easter Egg Hunt\, donations to the Safety Patrol Trip\, the High School Athletic Fund\, Santa's Workshop and many others.\n\n\n\nClick here to review the booklet.
X-ALT-DESC;FMTTYPE=text/html:<div><span style="font-size: 16px\;"><span style="font-family: arial\;">Fundraiser for Portage Lions Club to help support pre-school vision screening\, eye exams\, glasses for the needy and transportation of eye tissue to and from the Eye Bank in Madison. Other projects include scholarships\, annual Easter Egg Hunt\, donations to the Safety Patrol Trip\, the High School Athletic Fund\, Santa&rsquo\;s Workshop and many others.<br />\n<br />\n<a href="https://chambermaster.blob.core.windows.net/userfiles/UserFiles/chambers/374/File/LionsBooklet-2019-11.pdf">Click here to review the booklet.</a> </span></span><br />\n<br />\n<br />\n&nbsp\;</div>\n\n<div>&nbsp\;</div>\n<br />\n<br />\n&nbsp\;
LOCATION:St. Mary's Gymnasium
UID:e.374.24604
SEQUENCE:3
DTSTAMP:20260421T222215Z
URL:http://chamber.portagewi.com/events/details/portage-lions-club-radio-auction-24604
END:VEVENT

END:VCALENDAR
