BEGIN:VCALENDAR
VERSION:2.0
PRODID:-//ChamberMaster//Event Calendar 2.0//EN
METHOD:PUBLISH
X-PUBLISHED-TTL:P3D
REFRESH-INTERVAL:P3D
CALSCALE:GREGORIAN
BEGIN:VEVENT
DTSTART:20220328T230000Z
DTEND:20220329T000000Z
X-MICROSOFT-CDO-ALLDAYEVENT:FALSE
SUMMARY:Portage Mayoral Debate
DESCRIPTION:Portage Mayoral Debate on Monday\, March 28th at 6pm \n\n \n\nThe Portage Area Chamber of Commerce will be hosting a Mayoral Debate on Monday night\, March 28th at 6pm\, featuring incumbent Mayor Rick Dodd and challenger Mitch Craig at the Portage City Council Chambers\, second level of City Hall.\n\n \n\nThe City Council Chambers\, the site of previous Mayor Forums/Q & A sessions\, enables the Debate to be aired through the local cable access channel (994) for the residents of the City of Portage to watch that evening.\n\n \n\nDoors will open at 5:30pm for the public to access to the Council Chambers.  Attendance in-person is encouraged and seating is limited.  No questions will be taken from the audience that night. Potential questions from the community for the candidates can be submitted to the Chamber office.  Not all questions submitted will be asked.   We will accept questions by email\, mail and in-person until Noon on March 28\, 2022.
X-ALT-DESC;FMTTYPE=text/html:<span style="font-size:12.0pt\;">Portage Mayoral Debate on Monday\, March 28th at 6pm </span><br />\n&nbsp\;<br />\n<span style="font-size:12.0pt\;">The Portage Area Chamber of Commerce will be hosting a Mayoral Debate on Monday night\, March 28th at 6pm\, featuring incumbent Mayor Rick Dodd and challenger Mitch Craig at the Portage City Council Chambers\, second level of City Hall.</span><br />\n&nbsp\;<br />\n<span style="font-size:12.0pt\;">The City Council Chambers\, the site of previous Mayor Forums/Q &amp\; A sessions\, enables the Debate to be aired through the local cable access channel (994) for the residents of the City of Portage to watch that evening.</span><br />\n&nbsp\;<br />\n<span style="font-size:12.0pt\;">Doors will open at 5:30pm for the public to access to the Council Chambers.&nbsp\; Attendance in-person is encouraged and seating is limited.&nbsp\; No questions will be taken from the audience that night. Potential questions from the community for the candidates can be submitted to the Chamber office.&nbsp\; Not all questions submitted will be asked.&nbsp\;&nbsp\; We will accept questions by email\, mail and in-person until Noon on March 28\, 2022.</span><br />\n&nbsp\;
LOCATION:Portage City Hall Council Chambers (2nd level) 115 West Pleasant Street Portage\, WI 53901
UID:e.374.29400
SEQUENCE:3
DTSTAMP:20260424T074952Z
URL:http://chamber.portagewi.com/events/details/portage-mayoral-debate-29400
END:VEVENT

END:VCALENDAR
