BEGIN:VCALENDAR
VERSION:2.0
PRODID:-//ChamberMaster//Event Calendar 2.0//EN
METHOD:PUBLISH
X-PUBLISHED-TTL:P3D
REFRESH-INTERVAL:P3D
CALSCALE:GREGORIAN
BEGIN:VEVENT
DTSTART;VALUE=DATE:20251110
DTEND;VALUE=DATE:20251222
TRANSP:TRANSPARENT
X-MICROSOFT-CDO-ALLDAYEVENT:TRUE
SUMMARY:Portage Yuletide Passport
DESCRIPTION:Get Ready for the 2025 Portage Yuletide Passport   Support Local\, Win Big!\n\nThe holiday season is upon us\, and there's no better way to enjoy it than by shopping local and supporting your favorite businesses here in Portage. We're excited to bring back the Portage Yuletide Passport\, a fun and rewarding way to explore our local shops\, restaurants\, and entertainment venues while getting a chance to win some fantastic prizes!\n\nHow It Works:\n\n\n	Pick up your Yuletide Passport at any participating member business starting November 10\, 2025.\n	Shop\, dine\, and enjoy the holiday season at participating member businesses.\n	For every $5 you spend\, you'll get a stamp in your Passport.\n	Visit at least 5 participating member businesses\, and you'll be entered into a drawing to win amazing prizes!\n	The more businesses you visit\, the more chances you have to win!\n\n\nDates:\n\nThe Portage Yuletide Passport program runs from November 10 to December 21\, 2025\, giving you plenty of time to check off your holiday shopping list while supporting local member businesses.\n\nWhy Participate?\n\nNot only will you discover some hidden gems and shop for one-of-a-kind gifts\, but every dollar you spend stays right here in our community. By choosing to shop local\, you're helping to strengthen our local economy\, support jobs\, and ensure our businesses thrive during the holiday season.\n\nAnd\, of course\, there's the chance to win some fabulous prizes along the way!\n\nWhere to Start:\n\nLook for signs at participating member businesses\, visit the Portage Area Chamber of Commerce website to see the full list of participating locations.\n\nSo grab your Yuletide Passport\, visit our local shops\, and experience the joy of the holidays in Portage where every stop brings you closer to a win!\n\nSupport Local. Shop Small. Win Big!\n\nHere are the participating Passport Businesses. \n\n\n\n	\n		\n			\n			1873 Bar & Grill\n			\n		\n		\n			\n			Anytime Fitness\n			\n		\n		\n			\n			Aspirus Divine Savior Boutique & Gift Shop \n			\n		\n		\n			\n			Ayers Furniture Store\n			\n		\n		\n			\n			Bee Alive Yoga\n			\n		\n		\n			\n			Big Dog Saloon\n			\n		\n		\n			\n			Bliffert Lumber & Design\n			\n		\n		\n			\n			Brothers\n			\n		\n		\n			\n			Capital City Equipment & Schultz Small Engine\n			\n		\n		\n			\n			DeWitt Street Nutrition\n			\n		\n		\n			\n			Dino's Restaurant\n			\n		\n		\n			\n			Edgewater Home & Garden\n			\n		\n		\n			\n			Fancy Pants & Smart Woman\n			\n		\n		\n			\n			Forever Yours Jewelry\, Inc.\n			\n		\n		\n			Fort Winnebago Masonic Center \n		\n		\n			\n			Frost Dragon Market\n			\n		\n		\n			J&J Fireball Lanes \n		\n		\n			\n			La Tolteca Authentic Mexican Cuisine\n			\n		\n		\n			\n			M&M Tackle It Bait Shop \n			\n		\n		\n			\n			Main Street Consignment\n			\n		\n		\n			\n			Museum at the Portage\n			\n		\n		\n			\n			NAPA Auto Parts\n			\n		\n		\n			\n			Pizza Hut\n			\n		\n		\n			\n			Portage Cafe LLC\n			\n		\n		\n			\n			Portage Center for the Arts\n			\n		\n		\n			\n			Portage Craft Mall LLC\n			\n		\n		\n			\n			Portage Theatres\n			\n		\n		\n			\n			R. Condon Gallery & Custom Framery\n			\n		\n		\n			\n			Rustic Rediscoveries Thrift Shop\n			\n		\n		\n			\n			Suzy's Steak & Seafood House\n			\n		\n		\n			The Flower Company \n		\n		\n			\n			The Mercantile\n			\n		\n		\n			\n			Uptown Exchange\n			\n		\n		\n			\n			VIBE Salon & Spa\n			\n		\n		\n			\n			Wilz Hometown Pharmacy
X-ALT-DESC;FMTTYPE=text/html:<p><strong>Get Ready for the 2025&nbsp\;Portage Yuletide Passport &ndash\; Support Local\, Win Big!</strong></p>\n\n<p>The holiday season is upon us\, and there&#39\;s no better way to enjoy it than by shopping local and supporting your favorite businesses here in Portage. We&rsquo\;re excited to bring back the <strong>Portage Yuletide Passport</strong>\, a fun and rewarding way to explore our local shops\, restaurants\, and entertainment venues while getting a chance to win some fantastic prizes!</p>\n\n<p><strong>How It Works:</strong></p>\n\n<ol>\n	<li>Pick up your Yuletide Passport at any participating member business starting <strong>November 10\, 2025</strong>.</li>\n	<li>Shop\, dine\, and enjoy the holiday season at participating member businesses.</li>\n	<li>For every <strong>$5 you spend</strong>\, you&#39\;ll get a stamp in your Passport.</li>\n	<li>Visit at least <strong>5 participating member businesses</strong>\, and you&rsquo\;ll be entered into a drawing to win amazing prizes!</li>\n	<li>The more businesses you visit\, the more chances you have to win!</li>\n</ol>\n\n<div class="x_elementToProof" style="border: 0px\; font-style: inherit\; font-variant: inherit\; font-weight: inherit\; font-stretch: inherit\; font-size: 12pt\; line-height: inherit\; font-family: Calibri\, Helvetica\, sans-serif\, serif\, EmojiFont\; font-optical-sizing: inherit\; font-size-adjust: inherit\; font-kerning: inherit\; font-feature-settings: inherit\; font-variation-settings: inherit\; margin: 0px\; padding: 0px\; vertical-align: baseline\; color: rgb(0\, 0\, 0)\;"><strong font-size:="" style="color: rgb(51\, 51\, 51)\; font-family: sans-serif\, Arial\, Verdana\, " trebuchet="">Dates:</strong></div>\n\n<p>The Portage Yuletide Passport program runs from <strong>November 10&nbsp\;to December 21\, 2025</strong>\, giving you plenty of time to check off your holiday shopping list while supporting local member businesses.</p>\n\n<p><strong>Why Participate?</strong><br />\nNot only will you discover some hidden gems and shop for one-of-a-kind gifts\, but every dollar you spend stays right here in our community. By choosing to shop local\, you&#39\;re helping to strengthen our local economy\, support jobs\, and ensure our businesses thrive during the holiday season.</p>\n\n<p>And\, of course\, there&rsquo\;s the chance to win some fabulous prizes along the way!</p>\n\n<p><strong>Where to Start:</strong><br />\nLook for signs at participating member businesses\, visit the Portage Area Chamber of Commerce website to see the full list of participating locations.</p>\n\n<p>So grab your Yuletide Passport\, visit our local shops\, and experience the joy of the holidays in Portage&mdash\;where every stop brings you closer to a win!</p>\n\n<p><strong>Support Local. Shop Small. Win Big!</strong><br />\nHere are the participating Passport Businesses.&nbsp\;</p>\n\n<div>\n<table id="table_0" style="border-collapse: collapse\; border-spacing: 0px\;">\n	<tbody>\n		<tr>\n			<td style="text-wrap-mode: nowrap\; padding-top: 1px\; padding-right: 1px\; padding-left: 1px\; vertical-align: bottom\; width: 218pt\; height: 15pt\;">\n			<div data-olk-copy-source="MailCompose" style="font-family: Calibri\, Helvetica\, sans-serif\; font-size: 12pt\; color: rgb(0\, 0\, 0)\;"><span style="font-size:12px\;"><span style="font-family:arial\;">1873 Bar &amp\; Grill</span></span></div>\n			</td>\n		</tr>\n		<tr>\n			<td style="text-wrap-mode: nowrap\; padding-top: 1px\; padding-right: 1px\; padding-left: 1px\; vertical-align: bottom\; width: 290.667px\; height: 15pt\;">\n			<div style="font-family: Calibri\, Helvetica\, sans-serif\; font-size: 12pt\; color: rgb(0\, 0\, 0)\;"><span style="font-size:12px\;"><span style="font-family:arial\;">Anytime Fitness</span></span></div>\n			</td>\n		</tr>\n		<tr>\n			<td style="text-wrap-mode: nowrap\; padding-top: 1px\; padding-right: 1px\; padding-left: 1px\; vertical-align: bottom\; width: 290.667px\; height: 15pt\;">\n			<div style="font-family: Calibri\, Helvetica\, sans-serif\; font-size: 12pt\; color: rgb(0\, 0\, 0)\;"><span style="font-size:12px\;"><span style="font-family:arial\;">Aspirus Divine Savior Boutique &amp\; Gift Shop&nbsp\;</span></span></div>\n			</td>\n		</tr>\n		<tr>\n			<td style="text-wrap-mode: nowrap\; padding-top: 1px\; padding-right: 1px\; padding-left: 1px\; vertical-align: bottom\; width: 290.667px\; height: 15pt\;">\n			<div style="font-family: Calibri\, Helvetica\, sans-serif\; font-size: 12pt\; color: rgb(0\, 0\, 0)\;"><span style="font-size:12px\;"><span style="font-family:arial\;">Ayers Furniture Store</span></span></div>\n			</td>\n		</tr>\n		<tr>\n			<td style="text-wrap-mode: nowrap\; padding-top: 1px\; padding-right: 1px\; padding-left: 1px\; vertical-align: bottom\; width: 290.667px\; height: 15pt\;">\n			<div style="font-family: Calibri\, Helvetica\, sans-serif\; font-size: 12pt\; color: rgb(0\, 0\, 0)\;"><span style="font-size:12px\;"><span style="font-family:arial\;">Bee Alive Yoga</span></span></div>\n			</td>\n		</tr>\n		<tr>\n			<td style="text-wrap-mode: nowrap\; padding-top: 1px\; padding-right: 1px\; padding-left: 1px\; vertical-align: bottom\; width: 290.667px\; height: 15pt\;">\n			<div style="font-family: Calibri\, Helvetica\, sans-serif\; font-size: 12pt\; color: rgb(0\, 0\, 0)\;"><span style="font-size:12px\;"><span style="font-family:arial\;">Big Dog Saloon</span></span></div>\n			</td>\n		</tr>\n		<tr>\n			<td style="text-wrap-mode: nowrap\; padding-top: 1px\; padding-right: 1px\; padding-left: 1px\; vertical-align: bottom\; width: 290.667px\; height: 15pt\;">\n			<div style="font-family: Calibri\, Helvetica\, sans-serif\; font-size: 12pt\; color: rgb(0\, 0\, 0)\;"><span style="font-size:12px\;"><span style="font-family:arial\;">Bliffert Lumber &amp\; Design</span></span></div>\n			</td>\n		</tr>\n		<tr>\n			<td style="text-wrap-mode: nowrap\; padding-top: 1px\; padding-right: 1px\; padding-left: 1px\; vertical-align: bottom\; width: 290.667px\; height: 15pt\;">\n			<div style="font-family: Calibri\, Helvetica\, sans-serif\; font-size: 12pt\; color: rgb(0\, 0\, 0)\;"><span style="font-size:12px\;"><span style="font-family:arial\;">Brothers</span></span></div>\n			</td>\n		</tr>\n		<tr>\n			<td style="text-wrap-mode: nowrap\; padding-top: 1px\; padding-right: 1px\; padding-left: 1px\; vertical-align: bottom\; width: 290.667px\; height: 15pt\;">\n			<div style="font-family: Calibri\, Helvetica\, sans-serif\; font-size: 12pt\; color: rgb(0\, 0\, 0)\;"><span style="font-size:12px\;"><span style="font-family:arial\;">Capital City Equipment &amp\; Schultz Small Engine</span></span></div>\n			</td>\n		</tr>\n		<tr>\n			<td style="text-wrap-mode: nowrap\; padding-top: 1px\; padding-right: 1px\; padding-left: 1px\; vertical-align: bottom\; width: 290.667px\; height: 15pt\;">\n			<div style="font-family: Calibri\, Helvetica\, sans-serif\; font-size: 12pt\; color: rgb(0\, 0\, 0)\;"><span style="font-size:12px\;"><span style="font-family:arial\;">DeWitt Street Nutrition</span></span></div>\n			</td>\n		</tr>\n		<tr>\n			<td style="text-wrap-mode: nowrap\; padding-top: 1px\; padding-right: 1px\; padding-left: 1px\; vertical-align: bottom\; width: 290.667px\; height: 15pt\;">\n			<div style="font-family: Calibri\, Helvetica\, sans-serif\; font-size: 12pt\; color: rgb(0\, 0\, 0)\;"><span style="font-size:12px\;"><span style="font-family:arial\;">Dino&#39\;s Restaurant</span></span></div>\n			</td>\n		</tr>\n		<tr>\n			<td style="text-wrap-mode: nowrap\; padding-top: 1px\; padding-right: 1px\; padding-left: 1px\; vertical-align: bottom\; width: 290.667px\; height: 15pt\;">\n			<div style="font-family: Calibri\, Helvetica\, sans-serif\; font-size: 12pt\; color: rgb(0\, 0\, 0)\;"><span style="font-size:12px\;"><span style="font-family:arial\;">Edgewater Home &amp\; Garden</span></span></div>\n			</td>\n		</tr>\n		<tr>\n			<td style="text-wrap-mode: nowrap\; padding-top: 1px\; padding-right: 1px\; padding-left: 1px\; vertical-align: bottom\; width: 290.667px\; height: 15pt\;">\n			<div style="font-family: Calibri\, Helvetica\, sans-serif\; font-size: 12pt\; color: rgb(0\, 0\, 0)\;"><span style="font-size:12px\;"><span style="font-family:arial\;">Fancy Pants &amp\; Smart Woman</span></span></div>\n			</td>\n		</tr>\n		<tr>\n			<td style="text-wrap-mode: nowrap\; padding-top: 1px\; padding-right: 1px\; padding-left: 1px\; vertical-align: bottom\; width: 290.667px\; height: 15pt\;">\n			<div style="font-family: Calibri\, Helvetica\, sans-serif\; font-size: 12pt\; color: rgb(0\, 0\, 0)\;"><span style="font-size:12px\;"><span style="font-family:arial\;">Forever Yours Jewelry\, Inc.</span></span></div>\n			</td>\n		</tr>\n		<tr>\n			<td style="text-wrap-mode: nowrap\; padding-top: 1px\; padding-right: 1px\; padding-left: 1px\; vertical-align: bottom\; width: 290.667px\; height: 15pt\;"><span style="font-size:12px\;"><span style="font-family:arial\;">Fort Winnebago Masonic Center&nbsp\;</span></span></td>\n		</tr>\n		<tr>\n			<td style="text-wrap-mode: nowrap\; padding-top: 1px\; padding-right: 1px\; padding-left: 1px\; vertical-align: bottom\; width: 290.667px\; height: 15pt\;">\n			<div style="font-family: Calibri\, Helvetica\, sans-serif\; font-size: 12pt\; color: rgb(0\, 0\, 0)\;"><span style="font-size:12px\;"><span style="font-family:arial\;">Frost Dragon Market</span></span></div>\n			</td>\n		</tr>\n		<tr>\n			<td style="text-wrap-mode: nowrap\; padding-top: 1px\; padding-right: 1px\; padding-left: 1px\; vertical-align: bottom\; width: 290.667px\; height: 15pt\;"><span style="font-size:12px\;"><span style="font-family:arial\;">J&amp\;J Fireball Lanes&nbsp\;</span></span></td>\n		</tr>\n		<tr>\n			<td style="text-wrap-mode: nowrap\; padding-top: 1px\; padding-right: 1px\; padding-left: 1px\; vertical-align: bottom\; width: 290.667px\; height: 15pt\;">\n			<div style="font-family: Calibri\, Helvetica\, sans-serif\; font-size: 12pt\; color: rgb(0\, 0\, 0)\;"><span style="font-size:12px\;"><span style="font-family:arial\;">La Tolteca Authentic Mexican Cuisine</span></span></div>\n			</td>\n		</tr>\n		<tr>\n			<td style="text-wrap-mode: nowrap\; padding-top: 1px\; padding-right: 1px\; padding-left: 1px\; vertical-align: bottom\; width: 290.667px\; height: 15pt\;">\n			<div style="font-family: Calibri\, Helvetica\, sans-serif\; font-size: 12pt\; color: rgb(0\, 0\, 0)\;"><span style="font-size:12px\;"><span style="font-family:arial\;">M&amp\;M Tackle It Bait Shop&nbsp\;</span></span></div>\n			</td>\n		</tr>\n		<tr>\n			<td style="text-wrap-mode: nowrap\; padding-top: 1px\; padding-right: 1px\; padding-left: 1px\; vertical-align: bottom\; width: 290.667px\; height: 15pt\;">\n			<div style="font-family: Calibri\, Helvetica\, sans-serif\; font-size: 12pt\; color: rgb(0\, 0\, 0)\;"><span style="font-size:12px\;"><span style="font-family:arial\;">Main Street Consignment</span></span></div>\n			</td>\n		</tr>\n		<tr>\n			<td style="text-wrap-mode: nowrap\; padding-top: 1px\; padding-right: 1px\; padding-left: 1px\; vertical-align: bottom\; width: 290.667px\; height: 15pt\;">\n			<div style="font-family: Calibri\, Helvetica\, sans-serif\; font-size: 12pt\; color: rgb(0\, 0\, 0)\;"><span style="font-size:12px\;"><span style="font-family:arial\;">Museum at the Portage</span></span></div>\n			</td>\n		</tr>\n		<tr>\n			<td style="text-wrap-mode: nowrap\; padding-top: 1px\; padding-right: 1px\; padding-left: 1px\; vertical-align: bottom\; width: 290.667px\; height: 15pt\;">\n			<div style="font-family: Calibri\, Helvetica\, sans-serif\; font-size: 12pt\; color: rgb(0\, 0\, 0)\;"><span style="font-size:12px\;"><span style="font-family:arial\;">NAPA Auto Parts</span></span></div>\n			</td>\n		</tr>\n		<tr>\n			<td style="text-wrap-mode: nowrap\; padding-top: 1px\; padding-right: 1px\; padding-left: 1px\; vertical-align: bottom\; width: 290.667px\; height: 15pt\;">\n			<div style="font-family: Calibri\, Helvetica\, sans-serif\; font-size: 12pt\; color: rgb(0\, 0\, 0)\;"><span style="font-size:12px\;"><span style="font-family:arial\;">Pizza Hut</span></span></div>\n			</td>\n		</tr>\n		<tr>\n			<td style="text-wrap-mode: nowrap\; padding-top: 1px\; padding-right: 1px\; padding-left: 1px\; vertical-align: bottom\; width: 290.667px\; height: 15pt\;">\n			<div style="font-family: Calibri\, Helvetica\, sans-serif\; font-size: 12pt\; color: rgb(0\, 0\, 0)\;"><span style="font-size:12px\;"><span style="font-family:arial\;">Portage Cafe LLC</span></span></div>\n			</td>\n		</tr>\n		<tr>\n			<td style="text-wrap-mode: nowrap\; padding-top: 1px\; padding-right: 1px\; padding-left: 1px\; vertical-align: bottom\; width: 290.667px\; height: 15pt\;">\n			<div style="font-family: Calibri\, Helvetica\, sans-serif\; font-size: 12pt\; color: rgb(0\, 0\, 0)\;"><span style="font-size:12px\;"><span style="font-family:arial\;">Portage Center for the Arts</span></span></div>\n			</td>\n		</tr>\n		<tr>\n			<td style="text-wrap-mode: nowrap\; padding-top: 1px\; padding-right: 1px\; padding-left: 1px\; vertical-align: bottom\; width: 290.667px\; height: 15pt\;">\n			<div style="font-family: Calibri\, Helvetica\, sans-serif\; font-size: 12pt\; color: rgb(0\, 0\, 0)\;"><span style="font-size:12px\;"><span style="font-family:arial\;">Portage Craft Mall LLC</span></span></div>\n			</td>\n		</tr>\n		<tr>\n			<td style="text-wrap-mode: nowrap\; padding-top: 1px\; padding-right: 1px\; padding-left: 1px\; vertical-align: bottom\; width: 290.667px\; height: 15pt\;">\n			<div style="font-family: Calibri\, Helvetica\, sans-serif\; font-size: 12pt\; color: rgb(0\, 0\, 0)\;"><span style="font-size:12px\;"><span style="font-family:arial\;">Portage Theatres</span></span></div>\n			</td>\n		</tr>\n		<tr>\n			<td style="text-wrap-mode: nowrap\; padding-top: 1px\; padding-right: 1px\; padding-left: 1px\; vertical-align: bottom\; width: 290.667px\; height: 15pt\;">\n			<div style="font-family: Calibri\, Helvetica\, sans-serif\; font-size: 12pt\; color: rgb(0\, 0\, 0)\;"><span style="font-size:12px\;"><span style="font-family:arial\;">R. Condon Gallery &amp\; Custom Framery</span></span></div>\n			</td>\n		</tr>\n		<tr>\n			<td style="text-wrap-mode: nowrap\; padding-top: 1px\; padding-right: 1px\; padding-left: 1px\; vertical-align: bottom\; width: 290.667px\; height: 15pt\;">\n			<div style="font-family: Calibri\, Helvetica\, sans-serif\; font-size: 12pt\; color: rgb(0\, 0\, 0)\;"><span style="font-size:12px\;"><span style="font-family:arial\;">Rustic Rediscoveries Thrift Shop</span></span></div>\n			</td>\n		</tr>\n		<tr>\n			<td style="text-wrap-mode: nowrap\; padding-top: 1px\; padding-right: 1px\; padding-left: 1px\; vertical-align: bottom\; width: 290.667px\; height: 15pt\;">\n			<div style="font-family: Calibri\, Helvetica\, sans-serif\; font-size: 12pt\; color: rgb(0\, 0\, 0)\;"><span style="font-size:12px\;"><span style="font-family:arial\;">Suzy&#39\;s Steak &amp\; Seafood House</span></span></div>\n			</td>\n		</tr>\n		<tr>\n			<td style="text-wrap-mode: nowrap\; padding-top: 1px\; padding-right: 1px\; padding-left: 1px\; vertical-align: bottom\; width: 290.667px\; height: 15pt\;"><span style="font-size:12px\;"><span style="font-family:arial\;">The Flower Company&nbsp\;</span></span></td>\n		</tr>\n		<tr>\n			<td style="text-wrap-mode: nowrap\; padding-top: 1px\; padding-right: 1px\; padding-left: 1px\; vertical-align: bottom\; width: 290.667px\; height: 15pt\;">\n			<div style="font-family: Calibri\, Helvetica\, sans-serif\; font-size: 12pt\; color: rgb(0\, 0\, 0)\;"><span style="font-size:12px\;"><span style="font-family:arial\;">The Mercantile</span></span></div>\n			</td>\n		</tr>\n		<tr>\n			<td style="text-wrap-mode: nowrap\; padding-top: 1px\; padding-right: 1px\; padding-left: 1px\; vertical-align: bottom\; width: 290.667px\; height: 15pt\;">\n			<div style="font-family: Calibri\, Helvetica\, sans-serif\; font-size: 12pt\; color: rgb(0\, 0\, 0)\;"><span style="font-size:12px\;"><span style="font-family:arial\;">Uptown Exchange</span></span></div>\n			</td>\n		</tr>\n		<tr>\n			<td style="text-wrap-mode: nowrap\; padding-top: 1px\; padding-right: 1px\; padding-left: 1px\; vertical-align: bottom\; width: 290.667px\; height: 15pt\;">\n			<div style="font-family: Calibri\, Helvetica\, sans-serif\; font-size: 12pt\; color: rgb(0\, 0\, 0)\;"><span style="font-size:12px\;"><span style="font-family:arial\;">VIBE Salon &amp\; Spa</span></span></div>\n			</td>\n		</tr>\n		<tr>\n			<td style="text-wrap-mode: nowrap\; padding-top: 1px\; padding-right: 1px\; padding-left: 1px\; vertical-align: bottom\; width: 290.667px\; height: 15pt\;">\n			<div style="font-family: Calibri\, Helvetica\, sans-serif\; font-size: 12pt\; color: rgb(0\, 0\, 0)\;"><span style="font-size:12px\;"><span style="font-family:arial\;">Wilz Hometown Pharmacy</span></span></div>\n			</td>\n		</tr>\n	</tbody>\n</table>\n</div>\n
LOCATION:
UID:e.374.39336
SEQUENCE:3
DTSTAMP:20260423T000324Z
URL:http://chamber.portagewi.com/events/details/portage-yuletide-passport-39336
END:VEVENT

END:VCALENDAR
