BEGIN:VCALENDAR
VERSION:2.0
PRODID:-//ChamberMaster//Event Calendar 2.0//EN
METHOD:PUBLISH
X-PUBLISHED-TTL:P3D
REFRESH-INTERVAL:P3D
CALSCALE:GREGORIAN
BEGIN:VEVENT
DTSTART:20220306T013000Z
DTEND:20220306T030000Z
X-MICROSOFT-CDO-ALLDAYEVENT:FALSE
SUMMARY:Postponed - Common Chord at Portage Center for the Arts
DESCRIPTION:This show has been postponed until FALL 2022.\n\nCommon Chord at Portage Center for the Arts:\n\nFrom folk to swing and lots in between\, this five-member powerhouse performs a unique repertoire of originals and covers highlighting four-part vocal harmonies and varied instrumentation!
X-ALT-DESC;FMTTYPE=text/html:<div aria-label="Concert 4" class="qhwIj ignore-focus" id="comp-kdyp9p8l" role="region" tabindex="-1"><span style="font-size:14px\;"><font face="museo-w01-700\, serif"><strong><span style="color:#FF0000\;">This show has been postponed until FALL 2022.</span></strong><br />\nCommon Chord at Portage Center for the Arts:</font><br />\n<span style="font-family:proxima-n-w01-reg\,sans-serif\;">From folk to swing and lots in between\, this five-member powerhouse performs a unique repertoire of originals and covers highlighting four-part vocal harmonies and varied instrumentation!</span></span></div>\n
LOCATION:Portage Center for the Arts 301 E\, Cook St. \, Portage
UID:e.374.29197
SEQUENCE:3
DTSTAMP:20260424T075454Z
URL:http://chamber.portagewi.com/events/details/postponed-common-chord-at-portage-center-for-the-arts-29197
END:VEVENT

END:VCALENDAR
