BEGIN:VCALENDAR
VERSION:2.0
PRODID:-//ChamberMaster//Event Calendar 2.0//EN
METHOD:PUBLISH
X-PUBLISHED-TTL:P3D
REFRESH-INTERVAL:P3D
CALSCALE:GREGORIAN
BEGIN:VEVENT
DTSTART:20250830T150000Z
DTEND:20250830T190000Z
X-MICROSOFT-CDO-ALLDAYEVENT:FALSE
SUMMARY:Produce Harvest Exchange
DESCRIPTION:Join us for our first-ever Produce Exchange\, an event centered around community\, sustainability\, and seasonal abundance. If your garden is producing more than you can eat or you're simply interested in trading with fellow local growers this is your opportunity to share and discover something new.
X-ALT-DESC;FMTTYPE=text/html:<span font-size:="" segoe="" style="color: rgb(8\, 8\, 9)\; font-family: " ui="">Join us for our first-ever Produce Exchange\, an event centered around community\, sustainability\, and seasonal abundance. If your garden is producing more than you can eat&mdash\;or you&rsquo\;re simply interested in trading with fellow local growers&mdash\;this is your opportunity to share and discover something new.</span>
LOCATION:Edgewater Home & Garden 2957 Highway CX Portage\, WI 53901
UID:e.374.38154
SEQUENCE:3
DTSTAMP:20260423T092749Z
URL:http://chamber.portagewi.com/events/details/produce-harvest-exchange-38154
END:VEVENT

END:VCALENDAR
