BEGIN:VCALENDAR
VERSION:2.0
PRODID:-//ChamberMaster//Event Calendar 2.0//EN
METHOD:PUBLISH
X-PUBLISHED-TTL:P3D
REFRESH-INTERVAL:P3D
CALSCALE:GREGORIAN
BEGIN:VEVENT
DTSTART:20251106T233000Z
DTEND:20251107T013000Z
X-MICROSOFT-CDO-ALLDAYEVENT:FALSE
SUMMARY:Puzzle Piece Pumpkin
DESCRIPTION:Join us for an evening of fun in this DIY class to make your own festive fall decor. Participants will be provided with all materials and instructions to create your very own puzzle piece pumpkin.
X-ALT-DESC;FMTTYPE=text/html:Join us for an evening of fun in this DIY class to make your own festive fall decor. Participants will be provided with all materials and instructions to create your very own puzzle piece pumpkin.
LOCATION:Portage Craft Mall 128 W Cook Street\, Portage WI 53901
UID:e.374.37869
SEQUENCE:3
DTSTAMP:20260423T015647Z
URL:http://chamber.portagewi.com/events/details/puzzle-piece-pumpkin-37869
END:VEVENT

END:VCALENDAR
