BEGIN:VCALENDAR
VERSION:2.0
PRODID:-//ChamberMaster//Event Calendar 2.0//EN
METHOD:PUBLISH
X-PUBLISHED-TTL:P3D
REFRESH-INTERVAL:P3D
CALSCALE:GREGORIAN
BEGIN:VEVENT
DTSTART;VALUE=DATE:20251128
DTEND;VALUE=DATE:20251130
TRANSP:TRANSPARENT
X-MICROSOFT-CDO-ALLDAYEVENT:TRUE
SUMMARY:ReStore Habitat for Humanity Sale
DESCRIPTION:Black Friday and Small Business Saturday Sale! We'll be running 40% off the ENTIRE STORE ON BOTH DAYS! That's massive savings on furniture\, cabinets\, decor\, and so so much more!
X-ALT-DESC;FMTTYPE=text/html:<div class="xdj266r x14z9mp xat24cr x1lziwak x1vvkbs x126k92a" style="overflow-wrap: break-word\; white-space-collapse: preserve\; margin-inline: 0px\; margin-bottom: 0px\; margin-top: 0px\; font-family: &quot\;Segoe UI Historic&quot\;\, &quot\;Segoe UI&quot\;\, Helvetica\, Arial\, sans-serif\; color: rgb(8\, 8\, 9)\; font-size: 15px\;">\n<div dir="auto" style="font-family: inherit\;">Black Friday and Small Business Saturday Sale! We&#39\;ll be running 40% off the ENTIRE STORE ON BOTH DAYS! That&#39\;s massive savings on furniture\, cabinets\, decor\, and so so much more!</div>\n</div>\n\n<div class="x14z9mp xat24cr x1lziwak x1vvkbs xtlvy1s x126k92a" style="overflow-wrap: break-word\; white-space-collapse: preserve\; margin-top: 0.5em\; margin-inline: 0px\; margin-bottom: 0px\; font-family: &quot\;Segoe UI Historic&quot\;\, &quot\;Segoe UI&quot\;\, Helvetica\, Arial\, sans-serif\; color: rgb(8\, 8\, 9)\; font-size: 15px\;">\n<div dir="auto" style="font-family: inherit\;">&nbsp\;</div>\n</div>\n
LOCATION:1450 East Wisconsin Street Portage\, WI 53901
UID:e.374.39419
SEQUENCE:3
DTSTAMP:20260423T020119Z
URL:http://chamber.portagewi.com/events/details/restore-habitat-for-humanity-sale-39419
END:VEVENT

END:VCALENDAR
