BEGIN:VCALENDAR
VERSION:2.0
PRODID:-//ChamberMaster//Event Calendar 2.0//EN
METHOD:PUBLISH
X-PUBLISHED-TTL:P3D
REFRESH-INTERVAL:P3D
CALSCALE:GREGORIAN
BEGIN:VEVENT
DTSTART:20250828T210000Z
DTEND:20250828T213000Z
X-MICROSOFT-CDO-ALLDAYEVENT:FALSE
SUMMARY:Ribbon Cutting at 1873 Bar & Grill
DESCRIPTION:We're excited to welcome the new owners of 1873 Bar & Grill to the Portage community!\n\n\nJoin us for a Ribbon Cutting Celebration on Thursday\, August 28 at 4:00 PM as we officially mark this new chapter for the restaurant.\n\nHelp us welcome Casey and Stephanie as the new owners as they take over on August 1.\n\nThey are planning a Grand Opening celebration for Labor Day Weekend with festivities including live music along with food & drink specials.
X-ALT-DESC;FMTTYPE=text/html:<div data-olk-copy-source="MessageBody" style="border: 0px\; font-variant-numeric: inherit\; font-variant-east-asian: inherit\; font-variant-alternates: inherit\; font-variant-position: inherit\; font-variant-emoji: inherit\; font-stretch: inherit\; font-size: 12pt\; line-height: 1.284\; font-family: Calibri\, Helvetica\, sans-serif\; font-optical-sizing: inherit\; font-size-adjust: inherit\; font-kerning: inherit\; font-feature-settings: inherit\; font-variation-settings: inherit\; margin: 0in 0in 8pt\; padding: 0px\; vertical-align: baseline\; color: rgb(0\, 0\, 0)\;">We&rsquo\;re excited to welcome the new owners of 1873 Bar &amp\; Grill to the Portage community!</div>\n\n<div style="border: 0px\; font-variant-numeric: inherit\; font-variant-east-asian: inherit\; font-variant-alternates: inherit\; font-variant-position: inherit\; font-variant-emoji: inherit\; font-stretch: inherit\; font-size: 12pt\; line-height: 1.284\; font-family: Calibri\, Helvetica\, sans-serif\; font-optical-sizing: inherit\; font-size-adjust: inherit\; font-kerning: inherit\; font-feature-settings: inherit\; font-variation-settings: inherit\; margin: 0in 0in 8pt\; padding: 0px\; vertical-align: baseline\; color: rgb(0\, 0\, 0)\;">\n<div class="x14z9mp xat24cr x1lziwak x1vvkbs xtlvy1s" style="margin: 0.5em 0px 0px\; overflow-wrap: break-word\; font-family: &quot\;Segoe UI Historic&quot\;\, &quot\;Segoe UI&quot\;\, Helvetica\, Arial\, sans-serif\; color: rgb(8\, 8\, 9)\; font-size: 15px\;">Join us for a Ribbon Cutting Celebration on Thursday\, August 28 at 4:00 PM as we officially mark this new chapter for the restaurant.</div>\n\n<div class="x14z9mp xat24cr x1lziwak x1vvkbs xtlvy1s" style="margin: 0.5em 0px 0px\; overflow-wrap: break-word\; font-family: &quot\;Segoe UI Historic&quot\;\, &quot\;Segoe UI&quot\;\, Helvetica\, Arial\, sans-serif\; color: rgb(8\, 8\, 9)\; font-size: 15px\;">Help us welcome Casey and Stephanie as the new owners as they take over on August 1.</div>\n\n<div class="x14z9mp xat24cr x1lziwak x1vvkbs xtlvy1s" style="margin: 0.5em 0px 0px\; overflow-wrap: break-word\; font-family: &quot\;Segoe UI Historic&quot\;\, &quot\;Segoe UI&quot\;\, Helvetica\, Arial\, sans-serif\; color: rgb(8\, 8\, 9)\; font-size: 15px\;">They are planning a Grand Opening celebration for Labor Day Weekend with festivities including live music along with food &amp\; drink specials.</div>\n</div>\n
LOCATION:1873 Bar & Grill 301 DeWitt Street Portage\, WI 53901
UID:e.374.38157
SEQUENCE:3
DTSTAMP:20260423T094043Z
URL:http://chamber.portagewi.com/events/details/ribbon-cutting-at-1873-bar-grill-38157
END:VEVENT

END:VCALENDAR
