BEGIN:VCALENDAR
VERSION:2.0
PRODID:-//ChamberMaster//Event Calendar 2.0//EN
METHOD:PUBLISH
X-PUBLISHED-TTL:P3D
REFRESH-INTERVAL:P3D
CALSCALE:GREGORIAN
BEGIN:VEVENT
DTSTART:20260504T140000Z
DTEND:20260504T143000Z
X-MICROSOFT-CDO-ALLDAYEVENT:FALSE
SUMMARY:Ribbon Cutting at DC Lawn & Snow
DESCRIPTION:Join us as we celebrate the expansion of DC Lawn & Snow and welcome them as a new Chamber member!\n\n\n\nYou may already know Dawn and Charlie for their dependable lawn mowing and snow removal services but now they're growing! DC Lawn & Snow is expanding at their location with a brand-new Landscape & Supply Retail space\, offering even more services and products to the community.\n\n\n\n  Monday\, May 4\n\n  9:00 AM\n\n  802A East Albert St.\n\n\n\nCome help us congratulate them on this exciting expansion and show our support for a growing local business!  Need to reach them call 608-697-2753.
X-ALT-DESC;FMTTYPE=text/html:Join us as we celebrate the expansion of DC Lawn &amp\; Snow and welcome them as a new Chamber member!<br />\n<br />\nYou may already know Dawn and Charlie for their dependable lawn mowing and snow removal services&mdash\;but now they&rsquo\;re growing! DC Lawn &amp\; Snow is expanding at their location with a brand-new Landscape &amp\; Supply Retail space\, offering even more services and products to the community.<br />\n<br />\n<span style="font-family:segoe ui emoji\,sans-serif\;">&#128197\;</span> Monday\, May 4<br />\n<span style="font-family:segoe ui emoji\,sans-serif\;">&#9200\;</span> 9:00 AM<br />\n<span style="font-family:segoe ui emoji\,sans-serif\;">&#128205\;</span> 802A East Albert St.<br />\n<br />\nCome help us congratulate them on this exciting expansion and show our support for a growing local business!&nbsp\; Need to reach them call 608-697-2753.&nbsp\;
LOCATION:DC Lawn & Snow 802A East Albert St. Portage\, WI 539001
UID:e.374.40101
SEQUENCE:3
DTSTAMP:20260422T210252Z
URL:http://chamber.portagewi.com/events/details/ribbon-cutting-at-dc-lawn-snow-40101
END:VEVENT

END:VCALENDAR
