BEGIN:VCALENDAR
VERSION:2.0
PRODID:-//ChamberMaster//Event Calendar 2.0//EN
METHOD:PUBLISH
X-PUBLISHED-TTL:P3D
REFRESH-INTERVAL:P3D
CALSCALE:GREGORIAN
BEGIN:VEVENT
DTSTART:20251118T150000Z
DTEND:20251118T153000Z
X-MICROSOFT-CDO-ALLDAYEVENT:FALSE
SUMMARY:Ribbon Cutting at DeWitt Street Nutrition
DESCRIPTION:Join us as we celebrate and welcome DeWitt Street Nutrition as a new business and member of the Portage Area Chamber of Commerce.   They are open in the heart of downtown Portage at 313 DeWitt Street. \n\n\n\nStop in and help us welcome Nic and Marina and their team to the business business community.  Check out their healthy protein shakes\, energizing teas\, and their 6-week wellness challenges designed to help you feel your best.
X-ALT-DESC;FMTTYPE=text/html:<span style="font-size: 16px\; font-family: &quot\;segoe ui emoji&quot\;\, sans-serif\;">Join us as we celebrate and welcome&nbsp\;DeWitt Street Nutrition as a new business and member of the Portage Area Chamber of Commerce.&nbsp\; &nbsp\;They are open in the heart of downtown Portage at 313 DeWitt Street.&nbsp\;</span><br />\n<br />\n<span style="font-size: 16px\; font-family: &quot\;segoe ui emoji&quot\;\, sans-serif\;">Stop in and help us&nbsp\;welcome Nic and Marina and their team to the business&nbsp\;business community.&nbsp\; Check out their healthy protein shakes\, energizing teas\, and their 6-week wellness challenges designed to help you feel your best.</span>
LOCATION:DeWitt Street Nutrition 313 DeWitt Street Portage\, WI 53901
UID:e.374.39387
SEQUENCE:3
DTSTAMP:20260423T020309Z
URL:http://chamber.portagewi.com/events/details/ribbon-cutting-at-dewitt-street-nutrition-39387
END:VEVENT

END:VCALENDAR
