BEGIN:VCALENDAR
VERSION:2.0
PRODID:-//ChamberMaster//Event Calendar 2.0//EN
METHOD:PUBLISH
X-PUBLISHED-TTL:P3D
REFRESH-INTERVAL:P3D
CALSCALE:GREGORIAN
BEGIN:VEVENT
DTSTART:20241120T150000Z
DTEND:20241120T153000Z
X-MICROSOFT-CDO-ALLDAYEVENT:FALSE
SUMMARY:Ribbon Cutting at Homeland Heating and Cooling
DESCRIPTION:Homeland Heating and Cooling\n\n(608) 515-3825\n\n\n\nWith over 13 years of experience\, Paul is a second-generation HVAC specialist who brings a wealth of expertise to our community.  He handles new installations\, offers convenient maintenance packages for year-round comfort and has a fast-response emergency service to get you up and running when it matters most.   Come check out his shop and give him a warm welcome to the community.
X-ALT-DESC;FMTTYPE=text/html:<strong style="font-family: arial\; font-size: 14px\;">Homeland Heating and Cooling</strong><br style="font-family: arial\; font-size: 14px\;" />\n<span style="font-family: arial\; font-size: 14px\;">(608) 515-3825</span><br />\n<br style="font-family: arial\; font-size: 14px\;" />\n<span style="font-family: arial\; font-size: 14px\;">With over 13 years of experience\, Paul is a second-generation HVAC specialist who brings a wealth of expertise to our community.&nbsp\; He handles new installations\, offers convenient maintenance packages for year-round comfort and has a fast-response emergency service to get you up and running when it matters most.&nbsp\; &nbsp\;Come check out his shop and give him a warm welcome to the community.</span>
LOCATION:N9666 Corning Road Portage\, WI 53901
UID:e.374.36014
SEQUENCE:3
DTSTAMP:20260423T211514Z
URL:http://chamber.portagewi.com/events/details/ribbon-cutting-at-homeland-heating-and-cooling-36014
END:VEVENT

END:VCALENDAR
