BEGIN:VCALENDAR
VERSION:2.0
PRODID:-//ChamberMaster//Event Calendar 2.0//EN
METHOD:PUBLISH
X-PUBLISHED-TTL:P3D
REFRESH-INTERVAL:P3D
CALSCALE:GREGORIAN
BEGIN:VEVENT
DTSTART:20241115T180000Z
DTEND:20241115T183000Z
X-MICROSOFT-CDO-ALLDAYEVENT:FALSE
SUMMARY:Ribbon Cutting at Kiki's Paw Spa
DESCRIPTION:Ribbon Cutting & Welcome: Kiki's Paw Spa \n\n(608) 369-2256\n\nWe are thrilled to welcome Kiki's Paw Spa as a new member of the Portage Area Chamber of Commerce!\n\n  Friday\, November 15th\n\n  Noon\n\n  311 East Wisconsin St. inside Cochrane Court\n\nJoin us in celebrating the grand opening of this new pet grooming business! Owner Kaylee\, with over 4 years of experience\, focuses on Fear-Free Grooming to ensure every pet has a calm\, stress-free and positive experience during their visit. \n\nCome meet her\, tour the new space and welcome her business to the community!
X-ALT-DESC;FMTTYPE=text/html:<div style="border: 0px\; font-style: inherit\; font-variant: inherit\; font-weight: inherit\; font-stretch: inherit\; font-size: 12pt\; line-height: inherit\; font-family: Calibri\, Helvetica\, sans-serif\; font-optical-sizing: inherit\; font-size-adjust: inherit\; font-kerning: inherit\; font-feature-settings: inherit\; font-variation-settings: inherit\; margin: 1em 0px\; padding: 0px\; vertical-align: baseline\; color: rgb(0\, 0\, 0)\;"><b data-olk-copy-source="MailCompose">Ribbon Cutting &amp\; Welcome: Kiki&#39\;s Paw Spa&nbsp\;</b><br />\n(608) 369-2256</div>\n\n<div style="border: 0px\; font-style: inherit\; font-variant: inherit\; font-weight: inherit\; font-stretch: inherit\; font-size: 12pt\; line-height: inherit\; font-family: Calibri\, Helvetica\, sans-serif\; font-optical-sizing: inherit\; font-size-adjust: inherit\; font-kerning: inherit\; font-feature-settings: inherit\; font-variation-settings: inherit\; margin: 1em 0px\; padding: 0px\; vertical-align: baseline\; color: rgb(0\, 0\, 0)\;">We are thrilled to welcome&nbsp\;<b>Kiki&#39\;s Paw Spa</b>&nbsp\;as a new member of the Portage Area Chamber of Commerce!</div>\n\n<div style="border: 0px\; font-style: inherit\; font-variant: inherit\; font-weight: inherit\; font-stretch: inherit\; font-size: 12pt\; line-height: inherit\; font-family: Calibri\, Helvetica\, sans-serif\; font-optical-sizing: inherit\; font-size-adjust: inherit\; font-kerning: inherit\; font-feature-settings: inherit\; font-variation-settings: inherit\; margin: 1em 0px\; padding: 0px\; vertical-align: baseline\; color: rgb(0\, 0\, 0)\;">&#128197\;&nbsp\;<b>Friday\, November 15th</b><br />\n&#128347\;&nbsp\;<b>Noon</b><br />\n&#128205\;&nbsp\;<b>311 East Wisconsin St. inside Cochrane Court</b></div>\n\n<div style="border: 0px\; font-style: inherit\; font-variant: inherit\; font-weight: inherit\; font-stretch: inherit\; font-size: 12pt\; line-height: inherit\; font-family: Calibri\, Helvetica\, sans-serif\; font-optical-sizing: inherit\; font-size-adjust: inherit\; font-kerning: inherit\; font-feature-settings: inherit\; font-variation-settings: inherit\; margin: 1em 0px\; padding: 0px\; vertical-align: baseline\; color: rgb(0\, 0\, 0)\;">Join us in celebrating the grand opening of this new pet grooming business! Owner&nbsp\;<b>Kaylee</b>\, with over 4 years of experience\, focuses on&nbsp\;<b>Fear-Free Grooming</b>&nbsp\;to ensure every pet has a calm\, stress-free and positive experience during their visit.&nbsp\;</div>\n\n<div style="border: 0px\; font-style: inherit\; font-variant: inherit\; font-weight: inherit\; font-stretch: inherit\; font-size: 12pt\; line-height: inherit\; font-family: Calibri\, Helvetica\, sans-serif\; font-optical-sizing: inherit\; font-size-adjust: inherit\; font-kerning: inherit\; font-feature-settings: inherit\; font-variation-settings: inherit\; margin: 1em 0px\; padding: 0px\; vertical-align: baseline\; color: rgb(0\, 0\, 0)\;">Come meet her\, tour the new space and welcome her business to the community!</div>\n\n<div style="border: 0px\; font-style: inherit\; font-variant: inherit\; font-weight: inherit\; font-stretch: inherit\; font-size: 12pt\; line-height: inherit\; font-family: Calibri\, Helvetica\, sans-serif\; font-optical-sizing: inherit\; font-size-adjust: inherit\; font-kerning: inherit\; font-feature-settings: inherit\; font-variation-settings: inherit\; margin: 1em 0px\; padding: 0px\; vertical-align: baseline\; color: rgb(0\, 0\, 0)\;">&nbsp\;</div>\n
LOCATION:Kiki's Paw Spa 311 East Wisconsin Street Portage\, WI 53901
UID:e.374.36002
SEQUENCE:3
DTSTAMP:20260423T212211Z
URL:http://chamber.portagewi.com/events/details/ribbon-cutting-at-kiki-s-paw-spa-36002
END:VEVENT

END:VCALENDAR
