BEGIN:VCALENDAR
VERSION:2.0
PRODID:-//ChamberMaster//Event Calendar 2.0//EN
METHOD:PUBLISH
X-PUBLISHED-TTL:P3D
REFRESH-INTERVAL:P3D
CALSCALE:GREGORIAN
BEGIN:VEVENT
DTSTART:20260518T210000Z
DTEND:20260518T213000Z
X-MICROSOFT-CDO-ALLDAYEVENT:FALSE
SUMMARY:Ribbon Cutting at Styled by Trinity
DESCRIPTION:Help us welcome a new Chamber member and business to downtown Portage!  \n\nJoin us for a ribbon cutting celebration for Styled by Trinity on Monday\, May 18 at 4:00 PM!\n\nOwned by Trinity Wetzel\, Styled by Trinity is located in downtown and specializes in customized color\, fresh cuts\, and glam styling. Trinity loves helping each client create their dream hair so they leave her chair feeling confident and beautiful.\n\n\n\nMonday\, May 18th at 4:00 PM\n\nStyled by Trinity at 212 DeWitt Street in downtown Portage.\n\nCome help us celebrate\, meet Trinity\, tour the salon\, and give her a warm Portage welcome!
X-ALT-DESC;FMTTYPE=text/html:<p data-end="70" data-start="0">Help us welcome a new Chamber member and business to downtown Portage!&nbsp\;&nbsp\;</p>\n\n<p data-end="164" data-start="72">Join us for a ribbon cutting celebration for Styled by Trinity on Monday\, May 18 at 4:00 PM!</p>\n\n<p data-end="452" data-start="166">Owned by <span class="hover:entity-accent entity-underline inline cursor-pointer align-baseline">Trinity Wetzel</span>\, Styled by Trinity is located in downtown and specializes in customized color\, fresh cuts\, and glam styling. Trinity loves helping each client create their dream hair so they leave her chair feeling confident and beautiful.<br />\n<br />\nMonday\, May 18th at&nbsp\;4:00 PM<br />\nStyled by Trinity at&nbsp\;212 DeWitt Street in downtown Portage.</p>\n\n<p data-end="606" data-is-last-node="" data-is-only-node="" data-start="508">Come help us celebrate\, meet Trinity\, tour the salon\, and give her a warm Portage welcome!&nbsp\;</p>\n
LOCATION:Styled by Trinity 212 DeWitt Street Portage\, WI 53901
UID:e.374.40326
SEQUENCE:3
DTSTAMP:20260422T174313Z
URL:http://chamber.portagewi.com/events/details/ribbon-cutting-at-styled-by-trinity-40326
END:VEVENT

END:VCALENDAR
