BEGIN:VCALENDAR
VERSION:2.0
PRODID:-//ChamberMaster//Event Calendar 2.0//EN
METHOD:PUBLISH
X-PUBLISHED-TTL:P3D
REFRESH-INTERVAL:P3D
CALSCALE:GREGORIAN
BEGIN:VEVENT
DTSTART:20220116T013000Z
DTEND:20220116T030000Z
X-MICROSOFT-CDO-ALLDAYEVENT:FALSE
SUMMARY:Ritt & Wilder Deitz at Portage Center for the Arts
DESCRIPTION:Join in the Portage Center for the Arts at the Zona Gale Theatre on select Saturdays throughout the year for music concerts.\n\n \n\nA regular performer in listening rooms and house concerts from Wisconsin to his native Kentucky\, acoustic roots rocker and recording artist Ritt Deitz is joined by his son Wilder Deitz\, a folk/jazz pianist and founder of the Wilder Deitz School for Creative Music!
X-ALT-DESC;FMTTYPE=text/html:<p class="font_8" style="margin: 0px\; padding: 0px\; border: 0px\; outline: 0px\; vertical-align: baseline\; background: transparent\; pointer-events: auto\; font-size: 14px\; line-height: normal\; color: rgb(0\, 0\, 0)\;"><span style="margin: 0px\; padding: 0px\; border: 0px\; outline: 0px\; vertical-align: baseline\; background: transparent\; font-weight: bold\;"><span style="margin: 0px\; padding: 0px\; border: 0px\; outline: 0px\; vertical-align: baseline\; background: transparent\;">Join in the Portage Center for the Arts at the Zona Gale Theatre on select Saturdays throughout the year for music concerts.</span></span><br />\n&nbsp\;</p>\n\n<p class="font_8" style="margin: 0px\; padding: 0px\; border: 0px\; outline: 0px\; vertical-align: baseline\; background: transparent\; pointer-events: auto\; font-size: 14px\; line-height: normal\; color: rgb(0\, 0\, 0)\;"><span style="margin: 0px\; padding: 0px\; border: 0px\; outline: 0px\; vertical-align: baseline\; background: transparent\; font-family: proxima-n-w01-reg\, sans-serif\;">A regular performer in listening rooms and house concerts from Wisconsin to his native Kentucky\, acoustic roots rocker and recording artist Ritt Deitz is joined by his son Wilder Deitz\, a folk/jazz pianist and founder of the Wilder Deitz School for Creative Music!</span></p>\n\n<p class="font_8" style="margin: 0px\; padding: 0px\; border: 0px\; outline: 0px\; vertical-align: baseline\; background: transparent\; pointer-events: auto\; font-size: 14px\; line-height: normal\; color: rgb(0\, 0\, 0)\;">&nbsp\;</p>\n\n<p class="font_8" style="margin: 0px\; padding: 0px\; border: 0px\; outline: 0px\; vertical-align: baseline\; background: transparent\; pointer-events: auto\; font-size: 14px\; line-height: normal\; color: rgb(0\, 0\, 0)\;"><span style="font-size:14px\;"><span style="font-family:arial\;"><span style="margin: 0px\; padding: 0px\; border: 0px\; outline: 0px\; vertical-align: baseline\; background: transparent\;">&nbsp\; &nbsp\; &nbsp\; &nbsp\; &nbsp\; &nbsp\; &nbsp\;&nbsp\;</span></span></span></p>\n\n<p class="font_8" style="margin: 0px\; padding: 0px\; border: 0px\; outline: 0px\; vertical-align: baseline\; background: transparent\; pointer-events: auto\; font-size: 14px\; line-height: 1.3em\; color: rgb(0\, 0\, 0)\;">&nbsp\;</p>\n
LOCATION:Portage Center for the Arts 301 East Cook Street Portage\, WI 53901
UID:e.374.28519
SEQUENCE:3
DTSTAMP:20260424T045111Z
URL:http://chamber.portagewi.com/events/details/ritt-wilder-deitz-at-portage-center-for-the-arts-28519
END:VEVENT

END:VCALENDAR
