BEGIN:VCALENDAR
VERSION:2.0
PRODID:-//ChamberMaster//Event Calendar 2.0//EN
METHOD:PUBLISH
X-PUBLISHED-TTL:P3D
REFRESH-INTERVAL:P3D
CALSCALE:GREGORIAN
BEGIN:VEVENT
DTSTART:20190429T220000Z
DTEND:20190429T233000Z
X-MICROSOFT-CDO-ALLDAYEVENT:FALSE
SUMMARY:Rotary Social Night
DESCRIPTION:Join Rotary for their evening social at Portage Country Club starting at 5pm. Cash bar with appetizers provided by Rotary.
X-ALT-DESC;FMTTYPE=text/html:<p>Join Rotary for their evening social at Portage Country Club starting at 5pm. Cash bar with appetizers provided by Rotary.</p>\n
LOCATION:Portage Country Club
UID:e.374.25875
SEQUENCE:3
DTSTAMP:20260421T122414Z
URL:http://chamber.portagewi.com/events/details/rotary-social-night-25875
END:VEVENT

END:VCALENDAR
