BEGIN:VCALENDAR
VERSION:2.0
PRODID:-//ChamberMaster//Event Calendar 2.0//EN
METHOD:PUBLISH
X-PUBLISHED-TTL:P3D
REFRESH-INTERVAL:P3D
CALSCALE:GREGORIAN
BEGIN:VEVENT
DTSTART;VALUE=DATE:20260213
DTEND;VALUE=DATE:20260214
TRANSP:TRANSPARENT
X-MICROSOFT-CDO-ALLDAYEVENT:TRUE
SUMMARY:Salute to Service Night at PHS
DESCRIPTION:Salute to Service Night prior to and during the varsity basketball game.  All area all veterans\, service members\, first responders and their families are invited and encouraged to attend. \n\n \n\nWe will be serving complementary pizza and refreshments for all veterans\, service members\, and first responders and their families at 6:15 PM in the PHS Commons.  Additionally\, all veterans\, service members\, and first responders will receive a free commemorative t-shirt.  \n\n \n\nThere will be a special presentation prior to the game during the National Anthem that will include a large American Flag\, as well as flags of the armed forces and local departments.  All veterans\, service members\, and first responders are encouraged to participate in this large flag ceremony during the National Anthem ceremony. \n\n \n\n*If you would like to be a part of this\, please be in attendance no later than 6:45 PM.  (National Anthem to occur at approximately 7:10 PM)\n\n \n\nDuring the halftime segment of the game\, all veterans\, service members\, and first responders in attendance will be personally recognized for their selfless service.  This will take place at approximately 7:45 PM.\n\n \n\nAll veterans\, service members\, and first responders will also receive free admission to the basketball game.\n\n \n\nPlease consider being a part of this special event as a small thank you and appreciation for all you do to serve our nation and communities. We look forward to recognizing you on the 23rd!
X-ALT-DESC;FMTTYPE=text/html:<div data-olk-copy-source="MessageBody" dir="auto" style="border: 0px\; font-variant-numeric: inherit\; font-variant-east-asian: inherit\; font-variant-alternates: inherit\; font-variant-position: inherit\; font-variant-emoji: inherit\; font-stretch: inherit\; font-size: 12pt\; line-height: inherit\; font-family: Aptos\, Aptos_MSFontService\, -apple-system\, Roboto\, Arial\, Helvetica\, sans-serif\, serif\, EmojiFont\; font-optical-sizing: inherit\; font-size-adjust: inherit\; font-kerning: inherit\; font-feature-settings: inherit\; font-variation-settings: inherit\; font-language-override: inherit\; margin: 0px\; padding: 0px\; vertical-align: baseline\; color: rgb(0\, 0\, 0) !important\;"><!--StartFragment--><span data-olk-copy-source="MessageBody" style="font-family: Aptos\, Aptos_MSFontService\, -apple-system\, Roboto\, Arial\, Helvetica\, sans-serif\, serif\, EmojiFont\; font-size: 12pt\; color: rgb(0\, 0\, 0)\;">Salute to Service Night prior to and during the varsity basketball game</span><!--EndFragment-->.&nbsp\; All area all veterans\, service members\, first responders and their families are invited and encouraged to attend.&nbsp\;</div>\n\n<div dir="auto" style="border: 0px\; font-variant-numeric: inherit\; font-variant-east-asian: inherit\; font-variant-alternates: inherit\; font-variant-position: inherit\; font-variant-emoji: inherit\; font-stretch: inherit\; font-size: 12pt\; line-height: inherit\; font-family: Aptos\, Aptos_MSFontService\, -apple-system\, Roboto\, Arial\, Helvetica\, sans-serif\, serif\, EmojiFont\; font-optical-sizing: inherit\; font-size-adjust: inherit\; font-kerning: inherit\; font-feature-settings: inherit\; font-variation-settings: inherit\; font-language-override: inherit\; margin: 0px\; padding: 0px\; vertical-align: baseline\; color: rgb(0\, 0\, 0) !important\;">&nbsp\;</div>\n\n<div dir="auto" style="border: 0px\; font-variant-numeric: inherit\; font-variant-east-asian: inherit\; font-variant-alternates: inherit\; font-variant-position: inherit\; font-variant-emoji: inherit\; font-stretch: inherit\; font-size: 12pt\; line-height: inherit\; font-family: Aptos\, Aptos_MSFontService\, -apple-system\, Roboto\, Arial\, Helvetica\, sans-serif\, serif\, EmojiFont\; font-optical-sizing: inherit\; font-size-adjust: inherit\; font-kerning: inherit\; font-feature-settings: inherit\; font-variation-settings: inherit\; font-language-override: inherit\; margin: 0px\; padding: 0px\; vertical-align: baseline\; color: rgb(0\, 0\, 0) !important\;">We will be serving complementary pizza and refreshments for all veterans\, service members\, and first responders and their families at 6:15 PM in the PHS Commons. &nbsp\;Additionally\, all veterans\, service members\, and first responders will receive a free commemorative t-shirt. &nbsp\;</div>\n\n<div dir="auto" style="border: 0px\; font-variant-numeric: inherit\; font-variant-east-asian: inherit\; font-variant-alternates: inherit\; font-variant-position: inherit\; font-variant-emoji: inherit\; font-stretch: inherit\; font-size: 12pt\; line-height: inherit\; font-family: Aptos\, Aptos_MSFontService\, -apple-system\, Roboto\, Arial\, Helvetica\, sans-serif\, serif\, EmojiFont\; font-optical-sizing: inherit\; font-size-adjust: inherit\; font-kerning: inherit\; font-feature-settings: inherit\; font-variation-settings: inherit\; font-language-override: inherit\; margin: 0px\; padding: 0px\; vertical-align: baseline\; color: rgb(0\, 0\, 0) !important\;">&nbsp\;</div>\n\n<div dir="auto" style="border: 0px\; font-variant-numeric: inherit\; font-variant-east-asian: inherit\; font-variant-alternates: inherit\; font-variant-position: inherit\; font-variant-emoji: inherit\; font-stretch: inherit\; font-size: 12pt\; line-height: inherit\; font-family: Aptos\, Aptos_MSFontService\, -apple-system\, Roboto\, Arial\, Helvetica\, sans-serif\, serif\, EmojiFont\; font-optical-sizing: inherit\; font-size-adjust: inherit\; font-kerning: inherit\; font-feature-settings: inherit\; font-variation-settings: inherit\; font-language-override: inherit\; margin: 0px\; padding: 0px\; vertical-align: baseline\; color: rgb(0\, 0\, 0) !important\;">There will be a special presentation prior to the game during the National Anthem that will include a large American Flag\, as well as flags of the armed forces and local departments. &nbsp\;All veterans\, service members\, and first responders are encouraged to participate in this large flag ceremony during the National Anthem ceremony.&nbsp\;</div>\n\n<div dir="auto" style="border: 0px\; font-variant-numeric: inherit\; font-variant-east-asian: inherit\; font-variant-alternates: inherit\; font-variant-position: inherit\; font-variant-emoji: inherit\; font-stretch: inherit\; font-size: 12pt\; line-height: inherit\; font-family: Aptos\, Aptos_MSFontService\, -apple-system\, Roboto\, Arial\, Helvetica\, sans-serif\, serif\, EmojiFont\; font-optical-sizing: inherit\; font-size-adjust: inherit\; font-kerning: inherit\; font-feature-settings: inherit\; font-variation-settings: inherit\; font-language-override: inherit\; margin: 0px\; padding: 0px\; vertical-align: baseline\; color: rgb(0\, 0\, 0) !important\;">&nbsp\;</div>\n\n<div dir="auto" style="border: 0px\; font-variant-numeric: inherit\; font-variant-east-asian: inherit\; font-variant-alternates: inherit\; font-variant-position: inherit\; font-variant-emoji: inherit\; font-stretch: inherit\; font-size: 12pt\; line-height: inherit\; font-family: Aptos\, Aptos_MSFontService\, -apple-system\, Roboto\, Arial\, Helvetica\, sans-serif\, serif\, EmojiFont\; font-optical-sizing: inherit\; font-size-adjust: inherit\; font-kerning: inherit\; font-feature-settings: inherit\; font-variation-settings: inherit\; font-language-override: inherit\; margin: 0px\; padding: 0px\; vertical-align: baseline\; color: rgb(0\, 0\, 0) !important\;">*If you would like to be a part of this\, please be in attendance no later than 6:45 PM. &nbsp\;(National Anthem to occur at approximately 7:10 PM)</div>\n\n<div dir="auto" style="border: 0px\; font-variant-numeric: inherit\; font-variant-east-asian: inherit\; font-variant-alternates: inherit\; font-variant-position: inherit\; font-variant-emoji: inherit\; font-stretch: inherit\; font-size: 12pt\; line-height: inherit\; font-family: Aptos\, Aptos_MSFontService\, -apple-system\, Roboto\, Arial\, Helvetica\, sans-serif\, serif\, EmojiFont\; font-optical-sizing: inherit\; font-size-adjust: inherit\; font-kerning: inherit\; font-feature-settings: inherit\; font-variation-settings: inherit\; font-language-override: inherit\; margin: 0px\; padding: 0px\; vertical-align: baseline\; color: rgb(0\, 0\, 0) !important\;">&nbsp\;</div>\n\n<div dir="auto" style="border: 0px\; font-variant-numeric: inherit\; font-variant-east-asian: inherit\; font-variant-alternates: inherit\; font-variant-position: inherit\; font-variant-emoji: inherit\; font-stretch: inherit\; font-size: 12pt\; line-height: inherit\; font-family: Aptos\, Aptos_MSFontService\, -apple-system\, Roboto\, Arial\, Helvetica\, sans-serif\, serif\, EmojiFont\; font-optical-sizing: inherit\; font-size-adjust: inherit\; font-kerning: inherit\; font-feature-settings: inherit\; font-variation-settings: inherit\; font-language-override: inherit\; margin: 0px\; padding: 0px\; vertical-align: baseline\; color: rgb(0\, 0\, 0) !important\;">During the halftime segment of the game\, all veterans\, service members\, and first responders in attendance will be personally recognized for their selfless service. &nbsp\;This will take place at approximately 7:45 PM.</div>\n\n<div dir="auto" style="border: 0px\; font-variant-numeric: inherit\; font-variant-east-asian: inherit\; font-variant-alternates: inherit\; font-variant-position: inherit\; font-variant-emoji: inherit\; font-stretch: inherit\; font-size: 12pt\; line-height: inherit\; font-family: Aptos\, Aptos_MSFontService\, -apple-system\, Roboto\, Arial\, Helvetica\, sans-serif\, serif\, EmojiFont\; font-optical-sizing: inherit\; font-size-adjust: inherit\; font-kerning: inherit\; font-feature-settings: inherit\; font-variation-settings: inherit\; font-language-override: inherit\; margin: 0px\; padding: 0px\; vertical-align: baseline\; color: rgb(0\, 0\, 0) !important\;">&nbsp\;</div>\n\n<div dir="auto" style="border: 0px\; font-variant-numeric: inherit\; font-variant-east-asian: inherit\; font-variant-alternates: inherit\; font-variant-position: inherit\; font-variant-emoji: inherit\; font-stretch: inherit\; font-size: 12pt\; line-height: inherit\; font-family: Aptos\, Aptos_MSFontService\, -apple-system\, Roboto\, Arial\, Helvetica\, sans-serif\, serif\, EmojiFont\; font-optical-sizing: inherit\; font-size-adjust: inherit\; font-kerning: inherit\; font-feature-settings: inherit\; font-variation-settings: inherit\; font-language-override: inherit\; margin: 0px\; padding: 0px\; vertical-align: baseline\; color: rgb(0\, 0\, 0) !important\;">All veterans\, service members\, and first responders will also receive free admission to the basketball game.</div>\n\n<div dir="auto" style="border: 0px\; font-variant-numeric: inherit\; font-variant-east-asian: inherit\; font-variant-alternates: inherit\; font-variant-position: inherit\; font-variant-emoji: inherit\; font-stretch: inherit\; font-size: 12pt\; line-height: inherit\; font-family: Aptos\, Aptos_MSFontService\, -apple-system\, Roboto\, Arial\, Helvetica\, sans-serif\, serif\, EmojiFont\; font-optical-sizing: inherit\; font-size-adjust: inherit\; font-kerning: inherit\; font-feature-settings: inherit\; font-variation-settings: inherit\; font-language-override: inherit\; margin: 0px\; padding: 0px\; vertical-align: baseline\; color: rgb(0\, 0\, 0) !important\;">&nbsp\;</div>\n\n<div dir="auto" style="border: 0px\; font-variant-numeric: inherit\; font-variant-east-asian: inherit\; font-variant-alternates: inherit\; font-variant-position: inherit\; font-variant-emoji: inherit\; font-stretch: inherit\; font-size: 12pt\; line-height: inherit\; font-family: Aptos\, Aptos_MSFontService\, -apple-system\, Roboto\, Arial\, Helvetica\, sans-serif\, serif\, EmojiFont\; font-optical-sizing: inherit\; font-size-adjust: inherit\; font-kerning: inherit\; font-feature-settings: inherit\; font-variation-settings: inherit\; font-language-override: inherit\; margin: 0px\; padding: 0px\; vertical-align: baseline\; color: rgb(0\, 0\, 0) !important\;">Please consider being a part of this special event as a small thank you and appreciation for all you do to serve our nation and communities. We look forward to recognizing you on the 23rd!</div>\n
LOCATION:Portage High School 301 East Collins St Portage\, WI 53901
UID:e.374.39711
SEQUENCE:3
DTSTAMP:20260424T122705Z
URL:http://chamber.portagewi.com/events/details/salute-to-service-night-at-phs-39711
END:VEVENT

END:VCALENDAR
