BEGIN:VCALENDAR
VERSION:2.0
PRODID:-//ChamberMaster//Event Calendar 2.0//EN
METHOD:PUBLISH
X-PUBLISHED-TTL:P3D
REFRESH-INTERVAL:P3D
CALSCALE:GREGORIAN
BEGIN:VEVENT
DTSTART;VALUE=DATE:20251128
DTEND;VALUE=DATE:20251207
TRANSP:TRANSPARENT
X-MICROSOFT-CDO-ALLDAYEVENT:TRUE
SUMMARY:Santa Visits at the Masonic Center
DESCRIPTION:Come visit with Santa at the Fort Winnebago Masonic Center. Share your list and bring your camera for a photo opportunity. \n\n\n\nNovember 28 from 2pm-5:30pm\n\nNovember 29 & 30 from 11am-8pm\n\nDecember 1-5  from 4pm-7pm\n\nDecember 6  from 11am-6pm
X-ALT-DESC;FMTTYPE=text/html:Come visit with Santa at the Fort Winnebago Masonic Center. Share your list and bring your camera for a photo opportunity.&nbsp\;<br />\n<br />\nNovember 28 from 2pm-5:30pm<br />\nNovember 29 &amp\; 30 from 11am-8pm<br />\nDecember 1-5&nbsp\; from 4pm-7pm<br />\nDecember 6&nbsp\; from 11am-6pm<br />\n<br />\n<br />\n&nbsp\;
LOCATION:Fort Winnebago #33 Masonic Center 205 DeWitt Street Portage\, WI 53901
UID:e.374.39383
SEQUENCE:3
DTSTAMP:20260423T000326Z
URL:http://chamber.portagewi.com/events/details/santa-visits-at-the-masonic-center-39383
END:VEVENT

END:VCALENDAR
