BEGIN:VCALENDAR
VERSION:2.0
PRODID:-//ChamberMaster//Event Calendar 2.0//EN
METHOD:PUBLISH
X-PUBLISHED-TTL:P3D
REFRESH-INTERVAL:P3D
CALSCALE:GREGORIAN
BEGIN:VEVENT
DTSTART:20190309T160000Z
DTEND:20190309T180000Z
X-MICROSOFT-CDO-ALLDAYEVENT:FALSE
SUMMARY:Saturday Theatre Workshop
DESCRIPTION:FREE! Theatre class for youth ages 8-18\, all skill levels encouraged! Sign up required for participation\, advanced registration appreciated. Walk-ins welcome. There is no enrollment fee at this time. Registration form may be found online or obtained from the office. Also see that a class this year will be on Feb 16\, 2019.
X-ALT-DESC;FMTTYPE=text/html:FREE! Theatre class for youth ages 8-18\, all skill levels encouraged! Sign up required for participation\, advanced registration appreciated. Walk-ins welcome. There is no enrollment fee at this time. Registration form may be found online or obtained from the office. Also see that a class this year will be on Feb 16\, 2019.
LOCATION:Portage Center for the Arts\, 301 East Cook Street\, Portage\, WI 53901
UID:e.374.25620
SEQUENCE:3
DTSTAMP:20260421T215448Z
URL:http://chamber.portagewi.com/events/details/saturday-theatre-workshop-25620
END:VEVENT

END:VCALENDAR
