BEGIN:VCALENDAR
VERSION:2.0
PRODID:-//ChamberMaster//Event Calendar 2.0//EN
METHOD:PUBLISH
X-PUBLISHED-TTL:P3D
REFRESH-INTERVAL:P3D
CALSCALE:GREGORIAN
BEGIN:VEVENT
DTSTART;VALUE=DATE:20260315
DTEND;VALUE=DATE:20260316
TRANSP:TRANSPARENT
X-MICROSOFT-CDO-ALLDAYEVENT:TRUE
SUMMARY:Shop with a Cop Bowling Tournament Fundraiser
DESCRIPTION:It's Back   Our Second Annual Shop with a Cop Bowling Tournament Fundraiser!\n\nSunday\, March 15\, 2026\, Bowling starts at 11:30 AM\n\n\n\nNEW THIS YEAR!\n\nWe're adding an Intermission at 2:30 PM with:\n\nSpotlight games featuring law enforcement vs. Columbia County Area High School Bowling Teams & the Special Olympics team.  Raffle basket drawings (you don't have to be present to win!)\n\n\n\n Tournament Details:\n\n  9-pin tap format\n\n  Limited to the first 16 teams   register early!\n\n  Open to the public\n\n  Morning session: 11:30 AM\n\n  Afternoon session: 3:30 PM (after intermission)\n\n\n\nRegistration forms available at J & J Fireball Lanes   payment required to secure your spot.\n\n Not a bowler? No problem! Come enjoy the raffles\, cash prizes\, overnight stays\, sporting event tickets\, autographed memorabilia\, gift cards\, and more!\n\n\n\n All proceeds support our Shop with a Cop program   helping local kids have a brighter holiday season.\n\nLet's make this year's tournament even bigger and better! Who's ready to bowl for a cause?
X-ALT-DESC;FMTTYPE=text/html:It&rsquo\;s Back &mdash\; Our Second Annual Shop with a Cop Bowling Tournament Fundraiser!<br />\nSunday\, March 15\, 2026\,&nbsp\;Bowling starts at 11:30 AM<br />\n<br />\nNEW THIS YEAR!<br />\nWe&rsquo\;re adding an Intermission at 2:30 PM with:<br />\nSpotlight games featuring law enforcement vs. Columbia County Area High School Bowling Teams &amp\; the Special Olympics team.&nbsp\;&nbsp\;Raffle basket drawings (you don&rsquo\;t have to be present to win!)<br />\n<br />\n&nbsp\;Tournament Details:<br />\n&bull\; 9-pin tap format<br />\n&bull\; Limited to the first 16 teams &mdash\; register early!<br />\n&bull\; Open to the public<br />\n&bull\; Morning session: 11:30 AM<br />\n&bull\; Afternoon session: 3:30 PM (after intermission)<br />\n<br />\nRegistration forms available at J &amp\; J Fireball Lanes &mdash\; payment required to secure your spot.<br />\n&nbsp\;Not a bowler? No problem! Come enjoy the raffles\, cash prizes\, overnight stays\, sporting event tickets\, autographed memorabilia\, gift cards\, and more!<br />\n<br />\n&nbsp\;All proceeds support our Shop with a Cop program &mdash\; helping local kids have a brighter holiday season.<br />\nLet&rsquo\;s make this year&rsquo\;s tournament even bigger and better! Who&rsquo\;s ready to bowl for a cause?<br />\n&nbsp\;
LOCATION:J & J Fireball Lanes 817 E. Wisconsin St. Portage\, WI 53901
UID:e.374.40115
SEQUENCE:3
DTSTAMP:20260422T225402Z
URL:http://chamber.portagewi.com/events/details/shop-with-a-cop-bowling-tournament-fundraiser-40115
END:VEVENT

END:VCALENDAR
