BEGIN:VCALENDAR
VERSION:2.0
PRODID:-//ChamberMaster//Event Calendar 2.0//EN
METHOD:PUBLISH
X-PUBLISHED-TTL:P3D
REFRESH-INTERVAL:P3D
CALSCALE:GREGORIAN
BEGIN:VEVENT
DTSTART;VALUE=DATE:20251031
DTEND;VALUE=DATE:20251102
TRANSP:TRANSPARENT
X-MICROSOFT-CDO-ALLDAYEVENT:TRUE
SUMMARY:Ski Swap at Cascade Mountain
DESCRIPTION:Looking to get your hands on some used equipment before the start of the season? You're in luck! We'll be hosting a ski swap Friday October 31 and Saturday November 1 from 10am-4pm. A portion of all ski swap sales will be donated to our Cascade Mountain Ski Patrol!\n\nAlso happening during the Ski Swap:\n\nPeak Bar - Stop by for some lunch and a drink! The Peak Bar will be open during the swap\, serving a limited bar menu plus brats and hot dogs!\n\nBeer Tasting - Bells Brewery will be offering beer samples at the Peak Bar from noon - 2pm on Friday 10/31.\n\nSports Shop - Grab a new jacket\, a new helmet\, or be one of the first to check out some of this year's Cascade merch!\n\nTech Shop - Get your new equipment mounted or your old equipment riding like they're brand new!\n\nSeason Pass Pick Up - While you're here\, stop by the office to pick up your season pass. Picking up your pass now will ensure less time at the ticket window and more time on snow on your first visit!
X-ALT-DESC;FMTTYPE=text/html:<div class="x_elementToProof" style="border: 0px\; font-variant-numeric: inherit\; font-variant-east-asian: inherit\; font-variant-alternates: inherit\; font-variant-position: inherit\; font-stretch: inherit\; font-size: 12pt\; line-height: inherit\; font-family: Calibri\, Helvetica\, sans-serif\, serif\, EmojiFont\; font-optical-sizing: inherit\; font-size-adjust: inherit\; font-kerning: inherit\; font-feature-settings: inherit\; font-variation-settings: inherit\; margin: 0px\; padding: 0px\; vertical-align: baseline\; white-space-collapse: preserve\; direction: ltr\; color: rgb(0\, 0\, 0) !important\;">\n<div class="x14z9mp xat24cr x1lziwak x1vvkbs xtlvy1s x126k92a" color:="" font-size:="" segoe="" style="overflow-wrap: break-word\; white-space-collapse: preserve\; margin-top: 0.5em\; margin-inline: 0px\; margin-bottom: 0px\; font-family: " ui="">\n<div dir="auto" style="font-family: inherit\;">Looking to get your hands on some used equipment before the start of the season? You&rsquo\;re in luck! We&rsquo\;ll be hosting a ski swap Friday October 31 and Saturday November 1 from 10am-4pm. A portion of all ski swap sales will be donated to our Cascade Mountain Ski Patrol!<br />\nAlso happening during the Ski Swap:<br />\nPeak Bar - Stop by for some lunch and a drink! The Peak Bar will be open during the swap\, serving a limited bar menu plus brats and hot dogs!<br />\nBeer Tasting - Bells Brewery will be offering beer samples at the Peak Bar from noon - 2pm on Friday 10/31.<br />\nSports Shop - Grab a new jacket\, a new helmet\, or be one of the first to check out some of this year&rsquo\;s Cascade merch!<br />\nTech Shop - Get your new equipment mounted or your old equipment riding like they&rsquo\;re brand new!<br />\nSeason Pass Pick Up - While you&rsquo\;re here\, stop by the office to pick up your season pass. Picking up your pass now will ensure less time at the ticket window and more time on snow on your first visit!</div>\n</div>\n</div>\n
LOCATION:Cascade Mountain W10441 Cascade Mountain Rd Portage\, WI 53901
UID:e.374.39312
SEQUENCE:3
DTSTAMP:20260423T015743Z
URL:http://chamber.portagewi.com/events/details/ski-swap-at-cascade-mountain-39312
END:VEVENT

END:VCALENDAR
