BEGIN:VCALENDAR
VERSION:2.0
PRODID:-//ChamberMaster//Event Calendar 2.0//EN
METHOD:PUBLISH
X-PUBLISHED-TTL:P3D
REFRESH-INTERVAL:P3D
CALSCALE:GREGORIAN
BEGIN:VEVENT
DTSTART;VALUE=DATE:20260517
DTEND;VALUE=DATE:20260518
TRANSP:TRANSPARENT
X-MICROSOFT-CDO-ALLDAYEVENT:TRUE
SUMMARY:St. Mary's Best Fest 2026
DESCRIPTION:Best Fest has been a staple of our parish life at St. Mary of the Immaculate Conception and is coming back home to the church grounds.  Lots of family fun on Sunday with a raffle for prizes.
X-ALT-DESC;FMTTYPE=text/html:<div class="kvgmc6g5 cxmmr5t8 oygrvhab hcukyx3x c1et5uql"><span style="font-size:14px\;"><span style="font-family:arial\;">Best Fest has been a staple of our parish life at St. Mary of the Immaculate Conception and is coming back home to the church grounds.&nbsp\; Lots of family&nbsp\;fun on Sunday with a raffle for prizes.</span></span><br />\n<br />\n<br />\n<br />\n<br />\n<br />\n<br />\n&nbsp\;</div>\n
LOCATION:
UID:e.374.39674
SEQUENCE:3
DTSTAMP:20260422T175155Z
URL:http://chamber.portagewi.com/events/details/st-mary-s-best-fest-2026-39674
END:VEVENT

END:VCALENDAR
