BEGIN:VCALENDAR
VERSION:2.0
PRODID:-//ChamberMaster//Event Calendar 2.0//EN
METHOD:PUBLISH
X-PUBLISHED-TTL:P3D
REFRESH-INTERVAL:P3D
CALSCALE:GREGORIAN
BEGIN:VEVENT
DTSTART:20190305T223000Z
DTEND:20190306T010000Z
X-MICROSOFT-CDO-ALLDAYEVENT:FALSE
SUMMARY:St. Mary's Fat Tuesday Pancake Supper
DESCRIPTION:Looking for something to do on Fat Tuesday? Come join us at St. Mary Catholic School for some fabulous pancakes and good company. The pancake supper will include a side of sausage\, your choice of pancake toppings\, milk\, juice\, coffee\, and water to quench your thirst.\n\n\n\nThe 6th grade class will be working the event with all proceeds going toward their Safety Patrol Trip to Missouri in May. We hope you can join us and look forward to seeing all of you!
X-ALT-DESC;FMTTYPE=text/html:<span style="font-size: 16px\;"><span style="font-family: arial\;">Looking for something to do on Fat Tuesday? Come join us at St. Mary Catholic School for some fabulous pancakes and good company. The pancake supper will include a side of sausage\, your choice of pancake toppings\, milk\, juice\, coffee\, and water to quench your thirst.<br />\n<br />\nThe 6th grade class will be working the event with all proceeds going toward their Safety Patrol Trip to Missouri in May. We hope you can join us and look forward to seeing all of you!</span></span>
LOCATION:St. Mary Catholic School 315 W. Cook St. Portage\, WI. 53901
UID:e.374.25716
SEQUENCE:3
DTSTAMP:20260421T220225Z
URL:http://chamber.portagewi.com/events/details/st-mary-s-fat-tuesday-pancake-supper-03-05-2019-25716
END:VEVENT

END:VCALENDAR
