BEGIN:VCALENDAR
VERSION:2.0
PRODID:-//ChamberMaster//Event Calendar 2.0//EN
METHOD:PUBLISH
X-PUBLISHED-TTL:P3D
REFRESH-INTERVAL:P3D
CALSCALE:GREGORIAN
BEGIN:VEVENT
DTSTART;VALUE=DATE:20260317
DTEND;VALUE=DATE:20260318
TRANSP:TRANSPARENT
X-MICROSOFT-CDO-ALLDAYEVENT:TRUE
SUMMARY:St. Patrick's Day at Sarby's Blarney Stone
DESCRIPTION:Who's ready to be back and celebrate St. Patrick's Day at the Blarney?! \n\nWe're going ALL OUT this year!\n\n\n	 Raffles every hour starting at 12PM\n	 FREE corned beef & cabbage\n	 Cheap Irish liquor and beer specials all day\n	 Live music by Anna Marie & Dan at 6PM\n	 Celebrating Jaylynn's birthday!\n\n\nGrab your crew\, wear your green\, and plan to spend the day with us.\n\nAnd trust us  this is just the beginning.
X-ALT-DESC;FMTTYPE=text/html:<div class="xdj266r x14z9mp xat24cr x1lziwak x1vvkbs" color:="" font-size:="" segoe="" style="margin-inline: 0px\; overflow-wrap: break-word\; margin-bottom: 0px\; margin-top: 0px\; font-family: " ui="">Who&rsquo\;s ready to be back and celebrate St. Patrick&rsquo\;s Day at the Blarney?!&nbsp\;</div>\n\n<div class="x14z9mp xat24cr x1lziwak x1vvkbs xtlvy1s" color:="" font-size:="" segoe="" style="margin-inline: 0px\; overflow-wrap: break-word\; margin-bottom: 0px\; margin-top: 0.5em\; font-family: " ui="">We&rsquo\;re going ALL OUT this year!</div>\n\n<ul>\n	<li class="x14z9mp xat24cr x1lziwak x1vvkbs xtlvy1s" color:="" font-size:="" segoe="" style="margin-inline: 0px\; overflow-wrap: break-word\; margin-bottom: 0px\; margin-top: 0.5em\;" ui="">&nbsp\;Raffles every hour starting at 12PM</li>\n	<li class="x14z9mp xat24cr x1lziwak x1vvkbs xtlvy1s" color:="" font-size:="" segoe="" style="margin-inline: 0px\; overflow-wrap: break-word\; margin-bottom: 0px\; margin-top: 0.5em\;" ui="">&nbsp\;FREE corned beef &amp\; cabbage</li>\n	<li class="x14z9mp xat24cr x1lziwak x1vvkbs xtlvy1s" color:="" font-size:="" segoe="" style="margin-inline: 0px\; overflow-wrap: break-word\; margin-bottom: 0px\; margin-top: 0.5em\;" ui="">&nbsp\;Cheap Irish liquor and beer specials all day</li>\n	<li class="x14z9mp xat24cr x1lziwak x1vvkbs xtlvy1s" color:="" font-size:="" segoe="" style="margin-inline: 0px\; overflow-wrap: break-word\; margin-bottom: 0px\; margin-top: 0.5em\;" ui="">&nbsp\;Live music by Anna Marie &amp\; Dan at 6PM</li>\n	<li class="x14z9mp xat24cr x1lziwak x1vvkbs xtlvy1s" color:="" font-size:="" segoe="" style="margin-inline: 0px\; overflow-wrap: break-word\; margin-bottom: 0px\; margin-top: 0.5em\;" ui="">&nbsp\;Celebrating Jaylynn&rsquo\;s birthday!</li>\n</ul>\n\n<div class="x14z9mp xat24cr x1lziwak x1vvkbs xtlvy1s" color:="" font-size:="" segoe="" style="margin-inline: 0px\; overflow-wrap: break-word\; margin-bottom: 0px\; margin-top: 0.5em\; font-family: " ui="">Grab your crew\, wear your green\, and plan to spend the day with us.</div>\n\n<div class="x14z9mp xat24cr x1lziwak x1vvkbs xtlvy1s" color:="" font-size:="" segoe="" style="margin-inline: 0px\; overflow-wrap: break-word\; margin-bottom: 0px\; margin-top: 0.5em\; font-family: " ui="">And trust us&hellip\; this is just the beginning.&nbsp\;</div>\n
LOCATION:Sarby's Blarney Stone 220 West Wisconsin St Portage\, WI 53901
UID:e.374.40121
SEQUENCE:3
DTSTAMP:20260422T193514Z
URL:http://chamber.portagewi.com/events/details/st-patrick-s-day-at-sarby-s-blarney-stone-40121
END:VEVENT

END:VCALENDAR
