BEGIN:VCALENDAR
VERSION:2.0
PRODID:-//ChamberMaster//Event Calendar 2.0//EN
METHOD:PUBLISH
X-PUBLISHED-TTL:P3D
REFRESH-INTERVAL:P3D
CALSCALE:GREGORIAN
BEGIN:VEVENT
DTSTART:20251101T150000Z
DTEND:20251101T163000Z
X-MICROSOFT-CDO-ALLDAYEVENT:FALSE
SUMMARY:Stay Safe: Self-Defense for Everyone
DESCRIPTION:Bring Your Friends and...\n\nJoin us at PCC for a practical\, hands-on self-defense class led by Gwen & Matt Griffey of Inspire Martial Arts.\n\n\n\nDETAILS:\n\nYou'll learn simple\, effective techniques to stay safe\, build confidence\, and handle real-world situations. No experience needed - just come ready to move\, learn\, and have fun!\n\n \n\nCOST:\n\n$12/person with $10 of each registration donated to River Haven Shelter in Portage.\n\n \n\nREGISTER:\n\nLimited space is available (20 attendees). Please register in Zen Planner to reserve your space: http://www.portagecrossfitcooperative.com/schedule.html\n\n\n\nWe hope to see you there!
X-ALT-DESC;FMTTYPE=text/html:<div><span style="font-size:14px">Bring Your Friends and...<br />\nJoin us at PCC for a practical\, hands-on self-defense class led by Gwen &amp\; Matt Griffey of Inspire Martial Arts.</span></div>\n\n<div><br />\n<span style="font-size:14px"><strong>DETAILS:</strong><br />\nYou&#39\;ll learn simple\, effective techniques to stay safe\, build confidence\, and handle real-world situations. No experience needed - just come ready to move\, learn\, and have fun!</span><br />\n&nbsp\;</div>\n\n<div><span style="font-size:14px"><strong>COST:</strong><br />\n$12/person with $10 of each registration donated to River Haven Shelter in Portage.</span><br />\n&nbsp\;</div>\n\n<div><span style="font-size:14px"><strong>REGISTER:</strong><br />\nLimited space is available (20 attendees). Please register in Zen Planner to reserve your space:&nbsp\;<a class="x1i10hfl xjbqb8w x1ejq31n x18oe1m7 x1sy0etr xstzfhl x972fbf x10w94by x1qhh985 x14e42zd x9f619 x1ypdohk xt0psk2 x3ct3a4 xdj266r x14z9mp xat24cr x1lziwak xexx8yu xyri2b x18d9i69 x1c1uobl x16tdsg8 x1hl2dhg xggy1nq x1a2a7pz xkrqix3 x1sur9pj x1fey0fg x1s688f" href="http://www.portagecrossfitcooperative.com/schedule.html?fbclid=IwZXh0bgNhZW0CMTAAYnJpZBExVjdtTlNiTkxrYk5SSjg5dwEe2vfCOvr3i2fBeVopwNLzRFY2zcWhga-_p3xxGwmh7ON1HFrUTAIFTaBg4VY_aem_0M7Y4AoLJg9zf9Cjp_gLYg" rel="nofollow noreferrer" style="color: rgb(0\, 100\, 209)\; cursor: pointer\; text-decoration-line: none\; text-align: inherit\; list-style-type: none\; box-sizing: border-box\; background-color: transparent\; outline: none\; -webkit-tap-highlight-color: transparent\; font-weight: 600\; touch-action: manipulation\; display: inline\; border-inline-width: 0px\; margin-inline: 0px\; border-inline-style: none\; padding-inline: 0px\; padding-bottom: 0px\; border-top-style: none\; border-bottom-width: 0px\; border-bottom-style: none\; border-top-width: 0px\; margin-bottom: 0px\; margin-top: 0px\; padding-top: 0px\; font-family: inherit\;" tabindex="0" target="_blank">http://www.portagecrossfitcooperative.com/schedule.html</a></span></div>\n\n<div><br />\n<span style="font-size:14px">We hope to see you there!</span></div>\n
LOCATION:Portage CrossFit Cooperative 211 E. Albert St. Portage\, WI 53901
UID:e.374.39290
SEQUENCE:3
DTSTAMP:20260423T022120Z
URL:http://chamber.portagewi.com/events/details/stay-safe-self-defense-for-everyone-39290
END:VEVENT

END:VCALENDAR
